Workbook

Sheet Grid
A1: Machinery. Do not edit. Values the business at every stage one growth rate so the Implied growth tab can find the one that matches the price.
A2: Step | B2: 0.001
A3: Stage one growth | B3: Lower 5y | C3: Lower 10y | D3: Yours 5y | E3: Yours 10y | F3: Higher 5y | G3: Higher 10y
A4: =-0.1+0*$B$2 -> -0.1 | B4: =IFERROR(('Table G'!$B$14+'Table G'!$B$15)/(1+'Table G'!$B$18)*IF(ABS(((1+$A4)/(1+'Table G'!$B$18))-1)<0.000000001,5,(1-((1+$A4)/(1+'Table G'!$B$18))^5)/(1-((1+$A4)/(1+'Table G'!$B$18))))+('Table G'!$B$14+'Table G'!$B$15)*(1+$A4)^(5-1)*(1+'Table G'!$B$25)/(('Table G'!$B$18-'Table G'!$B$25)*(1+'Table G'!$B$18)^5),"") -> 48465.488 | C4: =IFERROR(('Table G'!$B$14+'Table G'!$B$15)/(1+'Table G'!$B$18)*IF(ABS(((1+$A4)/(1+'Table G'!$B$18))-1)<0.000000001,10,(1-((1+$A4)/(1+'Table G'!$B$18))^10)/(1-((1+$A4)/(1+'Table G'!$B$18))))+('Table G'!$B$14+'Table G'!$B$15)*(1+$A4)^(10-1)*(1+'Table G'!$B$25)/(('Table G'!$B$18-'Table G'!$B$25)*(1+'Table G'!$B$18)^10),"") -> 35504.535 | D4: =IFERROR(('Table G'!$B$14+'Table G'!$B$15)/(1+'Table G'!$B$18)*IF(ABS(((1+$A4)/(1+'Table G'!$B$18))-1)<0.000000001,5,(1-((1+$A4)/(1+'Table G'!$B$18))^5)/(1-((1+$A4)/(1+'Table G'!$B$18))))+('Table G'!$B$14+'Table G'!$B$15)*(1+$A4)^(5-1)*(1+'Table G'!$B$26)/(('Table G'!$B$18-'Table G'!$B$26)*(1+'Table G'!$B$18)^5),"") -> 51232.356 | E4: =IFERROR(('Table G'!$B$14+'Table G'!$B$15)/(1+'Table G'!$B$18)*IF(ABS(((1+$A4)/(1+'Table G'!$B$18))-1)<0.000000001,10,(1-((1+$A4)/(1+'Table G'!$B$18))^10)/(1-((1+$A4)/(1+'Table G'!$B$18))))+('Table G'!$B$14+'Table G'!$B$15)*(1+$A4)^(10-1)*(1+'Table G'!$B$26)/(('Table G'!$B$18-'Table G'!$B$26)*(1+'Table G'!$B$18)^10),"") -> 36614.192 | F4: =IFERROR(('Table G'!$B$14+'Table G'!$B$15)/(1+'Table G'!$B$18)*IF(ABS(((1+$A4)/(1+'Table G'!$B$18))-1)<0.000000001,5,(1-((1+$A4)/(1+'Table G'!$B$18))^5)/(1-((1+$A4)/(1+'Table G'!$B$18))))+('Table G'!$B$14+'Table G'!$B$15)*(1+$A4)^(5-1)*(1+'Table G'!$B$27)/(('Table G'!$B$18-'Table G'!$B$27)*(1+'Table G'!$B$18)^5),"") -> 54480.883 | G4: =IFERROR(('Table G'!$B$14+'Table G'!$B$15)/(1+'Table G'!$B$18)*IF(ABS(((1+$A4)/(1+'Table G'!$B$18))-1)<0.000000001,10,(1-((1+$A4)/(1+'Table G'!$B$18))^10)/(1-((1+$A4)/(1+'Table G'!$B$18))))+('Table G'!$B$14+'Table G'!$B$15)*(1+$A4)^(10-1)*(1+'Table G'!$B$27)/(('Table G'!$B$18-'Table G'!$B$27)*(1+'Table G'!$B$18)^10),"") -> 37917.019
A5: =-0.1+1*$B$2 -> -0.099 | B5: =IFERROR(('Table G'!$B$14+'Table G'!$B$15)/(1+'Table G'!$B$18)*IF(ABS(((1+$A5)/(1+'Table G'!$B$18))-1)<0.000000001,5,(1-((1+$A5)/(1+'Table G'!$B$18))^5)/(1-((1+$A5)/(1+'Table G'!$B$18))))+('Table G'!$B$14+'Table G'!$B$15)*(1+$A5)^(5-1)*(1+'Table G'!$B$25)/(('Table G'!$B$18-'Table G'!$B$25)*(1+'Table G'!$B$18)^5),"") -> 48639.023 | C5: =IFERROR(('Table G'!$B$14+'Table G'!$B$15)/(1+'Table G'!$B$18)*IF(ABS(((1+$A5)/(1+'Table G'!$B$18))-1)<0.000000001,10,(1-((1+$A5)/(1+'Table G'!$B$18))^10)/(1-((1+$A5)/(1+'Table G'!$B$18))))+('Table G'!$B$14+'Table G'!$B$15)*(1+$A5)^(10-1)*(1+'Table G'!$B$25)/(('Table G'!$B$18-'Table G'!$B$25)*(1+'Table G'!$B$18)^10),"") -> 35712.046 | D5: =IFERROR(('Table G'!$B$14+'Table G'!$B$15)/(1+'Table G'!$B$18)*IF(ABS(((1+$A5)/(1+'Table G'!$B$18))-1)<0.000000001,5,(1-((1+$A5)/(1+'Table G'!$B$18))^5)/(1-((1+$A5)/(1+'Table G'!$B$18))))+('Table G'!$B$14+'Table G'!$B$15)*(1+$A5)^(5-1)*(1+'Table G'!$B$26)/(('Table G'!$B$18-'Table G'!$B$26)*(1+'Table G'!$B$18)^5),"") -> 51418.208 | E5: =IFERROR(('Table G'!$B$14+'Table G'!$B$15)/(1+'Table G'!$B$18)*IF(ABS(((1+$A5)/(1+'Table G'!$B$18))-1)<0.000000001,10,(1-((1+$A5)/(1+'Table G'!$B$18))^10)/(1-((1+$A5)/(1+'Table G'!$B$18))))+('Table G'!$B$14+'Table G'!$B$15)*(1+$A5)^(10-1)*(1+'Table G'!$B$26)/(('Table G'!$B$18-'Table G'!$B$26)*(1+'Table G'!$B$18)^10),"") -> 36832.849 | F5: =IFERROR(('Table G'!$B$14+'Table G'!$B$15)/(1+'Table G'!$B$18)*IF(ABS(((1+$A5)/(1+'Table G'!$B$18))-1)<0.000000001,5,(1-((1+$A5)/(1+'Table G'!$B$18))^5)/(1-((1+$A5)/(1+'Table G'!$B$18))))+('Table G'!$B$14+'Table G'!$B$15)*(1+$A5)^(5-1)*(1+'Table G'!$B$27)/(('Table G'!$B$18-'Table G'!$B$27)*(1+'Table G'!$B$18)^5),"") -> 54681.198 | G5: =IFERROR(('Table G'!$B$14+'Table G'!$B$15)/(1+'Table G'!$B$18)*IF(ABS(((1+$A5)/(1+'Table G'!$B$18))-1)<0.000000001,10,(1-((1+$A5)/(1+'Table G'!$B$18))^10)/(1-((1+$A5)/(1+'Table G'!$B$18))))+('Table G'!$B$14+'Table G'!$B$15)*(1+$A5)^(10-1)*(1+'Table G'!$B$27)/(('Table G'!$B$18-'Table G'!$B$27)*(1+'Table G'!$B$18)^10),"") -> 38148.762
A6: =-0.1+2*$B$2 -> -0.098 | B6: =IFERROR(('Table G'!$B$14+'Table G'!$B$15)/(1+'Table G'!$B$18)*IF(ABS(((1+$A6)/(1+'Table G'!$B$18))-1)<0.000000001,5,(1-((1+$A6)/(1+'Table G'!$B$18))^5)/(1-((1+$A6)/(1+'Table G'!$B$18))))+('Table G'!$B$14+'Table G'!$B$15)*(1+$A6)^(5-1)*(1+'Table G'!$B$25)/(('Table G'!$B$18-'Table G'!$B$25)*(1+'Table G'!$B$18)^5),"") -> 48813.097 | C6: =IFERROR(('Table G'!$B$14+'Table G'!$B$15)/(1+'Table G'!$B$18)*IF(ABS(((1+$A6)/(1+'Table G'!$B$18))-1)<0.000000001,10,(1-((1+$A6)/(1+'Table G'!$B$18))^10)/(1-((1+$A6)/(1+'Table G'!$B$18))))+('Table G'!$B$14+'Table G'!$B$15)*(1+$A6)^(10-1)*(1+'Table G'!$B$25)/(('Table G'!$B$18-'Table G'!$B$25)*(1+'Table G'!$B$18)^10),"") -> 35921.095 | D6: =IFERROR(('Table G'!$B$14+'Table G'!$B$15)/(1+'Table G'!$B$18)*IF(ABS(((1+$A6)/(1+'Table G'!$B$18))-1)<0.000000001,5,(1-((1+$A6)/(1+'Table G'!$B$18))^5)/(1-((1+$A6)/(1+'Table G'!$B$18))))+('Table G'!$B$14+'Table G'!$B$15)*(1+$A6)^(5-1)*(1+'Table G'!$B$26)/(('Table G'!$B$18-'Table G'!$B$26)*(1+'Table G'!$B$18)^5),"") -> 51604.642 | E6: =IFERROR(('Table G'!$B$14+'Table G'!$B$15)/(1+'Table G'!$B$18)*IF(ABS(((1+$A6)/(1+'Table G'!$B$18))-1)<0.000000001,10,(1-((1+$A6)/(1+'Table G'!$B$18))^10)/(1-((1+$A6)/(1+'Table G'!$B$18))))+('Table G'!$B$14+'Table G'!$B$15)*(1+$A6)^(10-1)*(1+'Table G'!$B$26)/(('Table G'!$B$18-'Table G'!$B$26)*(1+'Table G'!$B$18)^10),"") -> 37053.143 | F6: =IFERROR(('Table G'!$B$14+'Table G'!$B$15)/(1+'Table G'!$B$18)*IF(ABS(((1+$A6)/(1+'Table G'!$B$18))-1)<0.000000001,5,(1-((1+$A6)/(1+'Table G'!$B$18))^5)/(1-((1+$A6)/(1+'Table G'!$B$18))))+('Table G'!$B$14+'Table G'!$B$15)*(1+$A6)^(5-1)*(1+'Table G'!$B$27)/(('Table G'!$B$18-'Table G'!$B$27)*(1+'Table G'!$B$18)^5),"") -> 54882.141 | G6: =IFERROR(('Table G'!$B$14+'Table G'!$B$15)/(1+'Table G'!$B$18)*IF(ABS(((1+$A6)/(1+'Table G'!$B$18))-1)<0.000000001,10,(1-((1+$A6)/(1+'Table G'!$B$18))^10)/(1-((1+$A6)/(1+'Table G'!$B$18))))+('Table G'!$B$14+'Table G'!$B$15)*(1+$A6)^(10-1)*(1+'Table G'!$B$27)/(('Table G'!$B$18-'Table G'!$B$27)*(1+'Table G'!$B$18)^10),"") -> 38382.259
A7: =-0.1+3*$B$2 -> -0.097 | B7: =IFERROR(('Table G'!$B$14+'Table G'!$B$15)/(1+'Table G'!$B$18)*IF(ABS(((1+$A7)/(1+'Table G'!$B$18))-1)<0.000000001,5,(1-((1+$A7)/(1+'Table G'!$B$18))^5)/(1-((1+$A7)/(1+'Table G'!$B$18))))+('Table G'!$B$14+'Table G'!$B$15)*(1+$A7)^(5-1)*(1+'Table G'!$B$25)/(('Table G'!$B$18-'Table G'!$B$25)*(1+'Table G'!$B$18)^5),"") -> 48987.713 | C7: =IFERROR(('Table G'!$B$14+'Table G'!$B$15)/(1+'Table G'!$B$18)*IF(ABS(((1+$A7)/(1+'Table G'!$B$18))-1)<0.000000001,10,(1-((1+$A7)/(1+'Table G'!$B$18))^10)/(1-((1+$A7)/(1+'Table G'!$B$18))))+('Table G'!$B$14+'Table G'!$B$15)*(1+$A7)^(10-1)*(1+'Table G'!$B$25)/(('Table G'!$B$18-'Table G'!$B$25)*(1+'Table G'!$B$18)^10),"") -> 36131.693 | D7: =IFERROR(('Table G'!$B$14+'Table G'!$B$15)/(1+'Table G'!$B$18)*IF(ABS(((1+$A7)/(1+'Table G'!$B$18))-1)<0.000000001,5,(1-((1+$A7)/(1+'Table G'!$B$18))^5)/(1-((1+$A7)/(1+'Table G'!$B$18))))+('Table G'!$B$14+'Table G'!$B$15)*(1+$A7)^(5-1)*(1+'Table G'!$B$26)/(('Table G'!$B$18-'Table G'!$B$26)*(1+'Table G'!$B$18)^5),"") -> 51791.657 | E7: =IFERROR(('Table G'!$B$14+'Table G'!$B$15)/(1+'Table G'!$B$18)*IF(ABS(((1+$A7)/(1+'Table G'!$B$18))-1)<0.000000001,10,(1-((1+$A7)/(1+'Table G'!$B$18))^10)/(1-((1+$A7)/(1+'Table G'!$B$18))))+('Table G'!$B$14+'Table G'!$B$15)*(1+$A7)^(10-1)*(1+'Table G'!$B$26)/(('Table G'!$B$18-'Table G'!$B$26)*(1+'Table G'!$B$18)^10),"") -> 37275.087 | F7: =IFERROR(('Table G'!$B$14+'Table G'!$B$15)/(1+'Table G'!$B$18)*IF(ABS(((1+$A7)/(1+'Table G'!$B$18))-1)<0.000000001,5,(1-((1+$A7)/(1+'Table G'!$B$18))^5)/(1-((1+$A7)/(1+'Table G'!$B$18))))+('Table G'!$B$14+'Table G'!$B$15)*(1+$A7)^(5-1)*(1+'Table G'!$B$27)/(('Table G'!$B$18-'Table G'!$B$27)*(1+'Table G'!$B$18)^5),"") -> 55083.715 | G7: =IFERROR(('Table G'!$B$14+'Table G'!$B$15)/(1+'Table G'!$B$18)*IF(ABS(((1+$A7)/(1+'Table G'!$B$18))-1)<0.000000001,10,(1-((1+$A7)/(1+'Table G'!$B$18))^10)/(1-((1+$A7)/(1+'Table G'!$B$18))))+('Table G'!$B$14+'Table G'!$B$15)*(1+$A7)^(10-1)*(1+'Table G'!$B$27)/(('Table G'!$B$18-'Table G'!$B$27)*(1+'Table G'!$B$18)^10),"") -> 38617.523
A8: =-0.1+4*$B$2 -> -0.096 | B8: =IFERROR(('Table G'!$B$14+'Table G'!$B$15)/(1+'Table G'!$B$18)*IF(ABS(((1+$A8)/(1+'Table G'!$B$18))-1)<0.000000001,5,(1-((1+$A8)/(1+'Table G'!$B$18))^5)/(1-((1+$A8)/(1+'Table G'!$B$18))))+('Table G'!$B$14+'Table G'!$B$15)*(1+$A8)^(5-1)*(1+'Table G'!$B$25)/(('Table G'!$B$18-'Table G'!$B$25)*(1+'Table G'!$B$18)^5),"") -> 49162.871 | C8: =IFERROR(('Table G'!$B$14+'Table G'!$B$15)/(1+'Table G'!$B$18)*IF(ABS(((1+$A8)/(1+'Table G'!$B$18))-1)<0.000000001,10,(1-((1+$A8)/(1+'Table G'!$B$18))^10)/(1-((1+$A8)/(1+'Table G'!$B$18))))+('Table G'!$B$14+'Table G'!$B$15)*(1+$A8)^(10-1)*(1+'Table G'!$B$25)/(('Table G'!$B$18-'Table G'!$B$25)*(1+'Table G'!$B$18)^10),"") -> 36343.85 | D8: =IFERROR(('Table G'!$B$14+'Table G'!$B$15)/(1+'Table G'!$B$18)*IF(ABS(((1+$A8)/(1+'Table G'!$B$18))-1)<0.000000001,5,(1-((1+$A8)/(1+'Table G'!$B$18))^5)/(1-((1+$A8)/(1+'Table G'!$B$18))))+('Table G'!$B$14+'Table G'!$B$15)*(1+$A8)^(5-1)*(1+'Table G'!$B$26)/(('Table G'!$B$18-'Table G'!$B$26)*(1+'Table G'!$B$18)^5),"") -> 51979.256 | E8: =IFERROR(('Table G'!$B$14+'Table G'!$B$15)/(1+'Table G'!$B$18)*IF(ABS(((1+$A8)/(1+'Table G'!$B$18))-1)<0.000000001,10,(1-((1+$A8)/(1+'Table G'!$B$18))^10)/(1-((1+$A8)/(1+'Table G'!$B$18))))+('Table G'!$B$14+'Table G'!$B$15)*(1+$A8)^(10-1)*(1+'Table G'!$B$26)/(('Table G'!$B$18-'Table G'!$B$26)*(1+'Table G'!$B$18)^10),"") -> 37498.691 | F8: =IFERROR(('Table G'!$B$14+'Table G'!$B$15)/(1+'Table G'!$B$18)*IF(ABS(((1+$A8)/(1+'Table G'!$B$18))-1)<0.000000001,5,(1-((1+$A8)/(1+'Table G'!$B$18))^5)/(1-((1+$A8)/(1+'Table G'!$B$18))))+('Table G'!$B$14+'Table G'!$B$15)*(1+$A8)^(5-1)*(1+'Table G'!$B$27)/(('Table G'!$B$18-'Table G'!$B$27)*(1+'Table G'!$B$18)^5),"") -> 55285.921 | G8: =IFERROR(('Table G'!$B$14+'Table G'!$B$15)/(1+'Table G'!$B$18)*IF(ABS(((1+$A8)/(1+'Table G'!$B$18))-1)<0.000000001,10,(1-((1+$A8)/(1+'Table G'!$B$18))^10)/(1-((1+$A8)/(1+'Table G'!$B$18))))+('Table G'!$B$14+'Table G'!$B$15)*(1+$A8)^(10-1)*(1+'Table G'!$B$27)/(('Table G'!$B$18-'Table G'!$B$27)*(1+'Table G'!$B$18)^10),"") -> 38854.567
A9: =-0.1+5*$B$2 -> -0.095 | B9: =IFERROR(('Table G'!$B$14+'Table G'!$B$15)/(1+'Table G'!$B$18)*IF(ABS(((1+$A9)/(1+'Table G'!$B$18))-1)<0.000000001,5,(1-((1+$A9)/(1+'Table G'!$B$18))^5)/(1-((1+$A9)/(1+'Table G'!$B$18))))+('Table G'!$B$14+'Table G'!$B$15)*(1+$A9)^(5-1)*(1+'Table G'!$B$25)/(('Table G'!$B$18-'Table G'!$B$25)*(1+'Table G'!$B$18)^5),"") -> 49338.572 | C9: =IFERROR(('Table G'!$B$14+'Table G'!$B$15)/(1+'Table G'!$B$18)*IF(ABS(((1+$A9)/(1+'Table G'!$B$18))-1)<0.000000001,10,(1-((1+$A9)/(1+'Table G'!$B$18))^10)/(1-((1+$A9)/(1+'Table G'!$B$18))))+('Table G'!$B$14+'Table G'!$B$15)*(1+$A9)^(10-1)*(1+'Table G'!$B$25)/(('Table G'!$B$18-'Table G'!$B$25)*(1+'Table G'!$B$18)^10),"") -> 36557.579 | D9: =IFERROR(('Table G'!$B$14+'Table G'!$B$15)/(1+'Table G'!$B$18)*IF(ABS(((1+$A9)/(1+'Table G'!$B$18))-1)<0.000000001,5,(1-((1+$A9)/(1+'Table G'!$B$18))^5)/(1-((1+$A9)/(1+'Table G'!$B$18))))+('Table G'!$B$14+'Table G'!$B$15)*(1+$A9)^(5-1)*(1+'Table G'!$B$26)/(('Table G'!$B$18-'Table G'!$B$26)*(1+'Table G'!$B$18)^5),"") -> 52167.44 | E9: =IFERROR(('Table G'!$B$14+'Table G'!$B$15)/(1+'Table G'!$B$18)*IF(ABS(((1+$A9)/(1+'Table G'!$B$18))-1)<0.000000001,10,(1-((1+$A9)/(1+'Table G'!$B$18))^10)/(1-((1+$A9)/(1+'Table G'!$B$18))))+('Table G'!$B$14+'Table G'!$B$15)*(1+$A9)^(10-1)*(1+'Table G'!$B$26)/(('Table G'!$B$18-'Table G'!$B$26)*(1+'Table G'!$B$18)^10),"") -> 37723.968 | F9: =IFERROR(('Table G'!$B$14+'Table G'!$B$15)/(1+'Table G'!$B$18)*IF(ABS(((1+$A9)/(1+'Table G'!$B$18))-1)<0.000000001,5,(1-((1+$A9)/(1+'Table G'!$B$18))^5)/(1-((1+$A9)/(1+'Table G'!$B$18))))+('Table G'!$B$14+'Table G'!$B$15)*(1+$A9)^(5-1)*(1+'Table G'!$B$27)/(('Table G'!$B$18-'Table G'!$B$27)*(1+'Table G'!$B$18)^5),"") -> 55488.761 | G9: =IFERROR(('Table G'!$B$14+'Table G'!$B$15)/(1+'Table G'!$B$18)*IF(ABS(((1+$A9)/(1+'Table G'!$B$18))-1)<0.000000001,10,(1-((1+$A9)/(1+'Table G'!$B$18))^10)/(1-((1+$A9)/(1+'Table G'!$B$18))))+('Table G'!$B$14+'Table G'!$B$15)*(1+$A9)^(10-1)*(1+'Table G'!$B$27)/(('Table G'!$B$18-'Table G'!$B$27)*(1+'Table G'!$B$18)^10),"") -> 39093.403
A10: =-0.1+6*$B$2 -> -0.094 | B10: =IFERROR(('Table G'!$B$14+'Table G'!$B$15)/(1+'Table G'!$B$18)*IF(ABS(((1+$A10)/(1+'Table G'!$B$18))-1)<0.000000001,5,(1-((1+$A10)/(1+'Table G'!$B$18))^5)/(1-((1+$A10)/(1+'Table G'!$B$18))))+('Table G'!$B$14+'Table G'!$B$15)*(1+$A10)^(5-1)*(1+'Table G'!$B$25)/(('Table G'!$B$18-'Table G'!$B$25)*(1+'Table G'!$B$18)^5),"") -> 49514.818 | C10: =IFERROR(('Table G'!$B$14+'Table G'!$B$15)/(1+'Table G'!$B$18)*IF(ABS(((1+$A10)/(1+'Table G'!$B$18))-1)<0.000000001,10,(1-((1+$A10)/(1+'Table G'!$B$18))^10)/(1-((1+$A10)/(1+'Table G'!$B$18))))+('Table G'!$B$14+'Table G'!$B$15)*(1+$A10)^(10-1)*(1+'Table G'!$B$25)/(('Table G'!$B$18-'Table G'!$B$25)*(1+'Table G'!$B$18)^10),"") -> 36772.89 | D10: =IFERROR(('Table G'!$B$14+'Table G'!$B$15)/(1+'Table G'!$B$18)*IF(ABS(((1+$A10)/(1+'Table G'!$B$18))-1)<0.000000001,5,(1-((1+$A10)/(1+'Table G'!$B$18))^5)/(1-((1+$A10)/(1+'Table G'!$B$18))))+('Table G'!$B$14+'Table G'!$B$15)*(1+$A10)^(5-1)*(1+'Table G'!$B$26)/(('Table G'!$B$18-'Table G'!$B$26)*(1+'Table G'!$B$18)^5),"") -> 52356.21 | E10: =IFERROR(('Table G'!$B$14+'Table G'!$B$15)/(1+'Table G'!$B$18)*IF(ABS(((1+$A10)/(1+'Table G'!$B$18))-1)<0.000000001,10,(1-((1+$A10)/(1+'Table G'!$B$18))^10)/(1-((1+$A10)/(1+'Table G'!$B$18))))+('Table G'!$B$14+'Table G'!$B$15)*(1+$A10)^(10-1)*(1+'Table G'!$B$26)/(('Table G'!$B$18-'Table G'!$B$26)*(1+'Table G'!$B$18)^10),"") -> 37950.93 | F10: =IFERROR(('Table G'!$B$14+'Table G'!$B$15)/(1+'Table G'!$B$18)*IF(ABS(((1+$A10)/(1+'Table G'!$B$18))-1)<0.000000001,5,(1-((1+$A10)/(1+'Table G'!$B$18))^5)/(1-((1+$A10)/(1+'Table G'!$B$18))))+('Table G'!$B$14+'Table G'!$B$15)*(1+$A10)^(5-1)*(1+'Table G'!$B$27)/(('Table G'!$B$18-'Table G'!$B$27)*(1+'Table G'!$B$18)^5),"") -> 55692.235 | G10: =IFERROR(('Table G'!$B$14+'Table G'!$B$15)/(1+'Table G'!$B$18)*IF(ABS(((1+$A10)/(1+'Table G'!$B$18))-1)<0.000000001,10,(1-((1+$A10)/(1+'Table G'!$B$18))^10)/(1-((1+$A10)/(1+'Table G'!$B$18))))+('Table G'!$B$14+'Table G'!$B$15)*(1+$A10)^(10-1)*(1+'Table G'!$B$27)/(('Table G'!$B$18-'Table G'!$B$27)*(1+'Table G'!$B$18)^10),"") -> 39334.044
A11: =-0.1+7*$B$2 -> -0.093 | B11: =IFERROR(('Table G'!$B$14+'Table G'!$B$15)/(1+'Table G'!$B$18)*IF(ABS(((1+$A11)/(1+'Table G'!$B$18))-1)<0.000000001,5,(1-((1+$A11)/(1+'Table G'!$B$18))^5)/(1-((1+$A11)/(1+'Table G'!$B$18))))+('Table G'!$B$14+'Table G'!$B$15)*(1+$A11)^(5-1)*(1+'Table G'!$B$25)/(('Table G'!$B$18-'Table G'!$B$25)*(1+'Table G'!$B$18)^5),"") -> 49691.609 | C11: =IFERROR(('Table G'!$B$14+'Table G'!$B$15)/(1+'Table G'!$B$18)*IF(ABS(((1+$A11)/(1+'Table G'!$B$18))-1)<0.000000001,10,(1-((1+$A11)/(1+'Table G'!$B$18))^10)/(1-((1+$A11)/(1+'Table G'!$B$18))))+('Table G'!$B$14+'Table G'!$B$15)*(1+$A11)^(10-1)*(1+'Table G'!$B$25)/(('Table G'!$B$18-'Table G'!$B$25)*(1+'Table G'!$B$18)^10),"") -> 36989.795 | D11: =IFERROR(('Table G'!$B$14+'Table G'!$B$15)/(1+'Table G'!$B$18)*IF(ABS(((1+$A11)/(1+'Table G'!$B$18))-1)<0.000000001,5,(1-((1+$A11)/(1+'Table G'!$B$18))^5)/(1-((1+$A11)/(1+'Table G'!$B$18))))+('Table G'!$B$14+'Table G'!$B$15)*(1+$A11)^(5-1)*(1+'Table G'!$B$26)/(('Table G'!$B$18-'Table G'!$B$26)*(1+'Table G'!$B$18)^5),"") -> 52545.567 | E11: =IFERROR(('Table G'!$B$14+'Table G'!$B$15)/(1+'Table G'!$B$18)*IF(ABS(((1+$A11)/(1+'Table G'!$B$18))-1)<0.000000001,10,(1-((1+$A11)/(1+'Table G'!$B$18))^10)/(1-((1+$A11)/(1+'Table G'!$B$18))))+('Table G'!$B$14+'Table G'!$B$15)*(1+$A11)^(10-1)*(1+'Table G'!$B$26)/(('Table G'!$B$18-'Table G'!$B$26)*(1+'Table G'!$B$18)^10),"") -> 38179.589 | F11: =IFERROR(('Table G'!$B$14+'Table G'!$B$15)/(1+'Table G'!$B$18)*IF(ABS(((1+$A11)/(1+'Table G'!$B$18))-1)<0.000000001,5,(1-((1+$A11)/(1+'Table G'!$B$18))^5)/(1-((1+$A11)/(1+'Table G'!$B$18))))+('Table G'!$B$14+'Table G'!$B$15)*(1+$A11)^(5-1)*(1+'Table G'!$B$27)/(('Table G'!$B$18-'Table G'!$B$27)*(1+'Table G'!$B$18)^5),"") -> 55896.345 | G11: =IFERROR(('Table G'!$B$14+'Table G'!$B$15)/(1+'Table G'!$B$18)*IF(ABS(((1+$A11)/(1+'Table G'!$B$18))-1)<0.000000001,10,(1-((1+$A11)/(1+'Table G'!$B$18))^10)/(1-((1+$A11)/(1+'Table G'!$B$18))))+('Table G'!$B$14+'Table G'!$B$15)*(1+$A11)^(10-1)*(1+'Table G'!$B$27)/(('Table G'!$B$18-'Table G'!$B$27)*(1+'Table G'!$B$18)^10),"") -> 39576.503
A12: =-0.1+8*$B$2 -> -0.092 | B12: =IFERROR(('Table G'!$B$14+'Table G'!$B$15)/(1+'Table G'!$B$18)*IF(ABS(((1+$A12)/(1+'Table G'!$B$18))-1)<0.000000001,5,(1-((1+$A12)/(1+'Table G'!$B$18))^5)/(1-((1+$A12)/(1+'Table G'!$B$18))))+('Table G'!$B$14+'Table G'!$B$15)*(1+$A12)^(5-1)*(1+'Table G'!$B$25)/(('Table G'!$B$18-'Table G'!$B$25)*(1+'Table G'!$B$18)^5),"") -> 49868.948 | C12: =IFERROR(('Table G'!$B$14+'Table G'!$B$15)/(1+'Table G'!$B$18)*IF(ABS(((1+$A12)/(1+'Table G'!$B$18))-1)<0.000000001,10,(1-((1+$A12)/(1+'Table G'!$B$18))^10)/(1-((1+$A12)/(1+'Table G'!$B$18))))+('Table G'!$B$14+'Table G'!$B$15)*(1+$A12)^(10-1)*(1+'Table G'!$B$25)/(('Table G'!$B$18-'Table G'!$B$25)*(1+'Table G'!$B$18)^10),"") -> 37208.305 | D12: =IFERROR(('Table G'!$B$14+'Table G'!$B$15)/(1+'Table G'!$B$18)*IF(ABS(((1+$A12)/(1+'Table G'!$B$18))-1)<0.000000001,5,(1-((1+$A12)/(1+'Table G'!$B$18))^5)/(1-((1+$A12)/(1+'Table G'!$B$18))))+('Table G'!$B$14+'Table G'!$B$15)*(1+$A12)^(5-1)*(1+'Table G'!$B$26)/(('Table G'!$B$18-'Table G'!$B$26)*(1+'Table G'!$B$18)^5),"") -> 52735.513 | E12: =IFERROR(('Table G'!$B$14+'Table G'!$B$15)/(1+'Table G'!$B$18)*IF(ABS(((1+$A12)/(1+'Table G'!$B$18))-1)<0.000000001,10,(1-((1+$A12)/(1+'Table G'!$B$18))^10)/(1-((1+$A12)/(1+'Table G'!$B$18))))+('Table G'!$B$14+'Table G'!$B$15)*(1+$A12)^(10-1)*(1+'Table G'!$B$26)/(('Table G'!$B$18-'Table G'!$B$26)*(1+'Table G'!$B$18)^10),"") -> 38409.957 | F12: =IFERROR(('Table G'!$B$14+'Table G'!$B$15)/(1+'Table G'!$B$18)*IF(ABS(((1+$A12)/(1+'Table G'!$B$18))-1)<0.000000001,5,(1-((1+$A12)/(1+'Table G'!$B$18))^5)/(1-((1+$A12)/(1+'Table G'!$B$18))))+('Table G'!$B$14+'Table G'!$B$15)*(1+$A12)^(5-1)*(1+'Table G'!$B$27)/(('Table G'!$B$18-'Table G'!$B$27)*(1+'Table G'!$B$18)^5),"") -> 56101.092 | G12: =IFERROR(('Table G'!$B$14+'Table G'!$B$15)/(1+'Table G'!$B$18)*IF(ABS(((1+$A12)/(1+'Table G'!$B$18))-1)<0.000000001,10,(1-((1+$A12)/(1+'Table G'!$B$18))^10)/(1-((1+$A12)/(1+'Table G'!$B$18))))+('Table G'!$B$14+'Table G'!$B$15)*(1+$A12)^(10-1)*(1+'Table G'!$B$27)/(('Table G'!$B$18-'Table G'!$B$27)*(1+'Table G'!$B$18)^10),"") -> 39820.793
A13: =-0.1+9*$B$2 -> -0.091 | B13: =IFERROR(('Table G'!$B$14+'Table G'!$B$15)/(1+'Table G'!$B$18)*IF(ABS(((1+$A13)/(1+'Table G'!$B$18))-1)<0.000000001,5,(1-((1+$A13)/(1+'Table G'!$B$18))^5)/(1-((1+$A13)/(1+'Table G'!$B$18))))+('Table G'!$B$14+'Table G'!$B$15)*(1+$A13)^(5-1)*(1+'Table G'!$B$25)/(('Table G'!$B$18-'Table G'!$B$25)*(1+'Table G'!$B$18)^5),"") -> 50046.834 | C13: =IFERROR(('Table G'!$B$14+'Table G'!$B$15)/(1+'Table G'!$B$18)*IF(ABS(((1+$A13)/(1+'Table G'!$B$18))-1)<0.000000001,10,(1-((1+$A13)/(1+'Table G'!$B$18))^10)/(1-((1+$A13)/(1+'Table G'!$B$18))))+('Table G'!$B$14+'Table G'!$B$15)*(1+$A13)^(10-1)*(1+'Table G'!$B$25)/(('Table G'!$B$18-'Table G'!$B$25)*(1+'Table G'!$B$18)^10),"") -> 37428.431 | D13: =IFERROR(('Table G'!$B$14+'Table G'!$B$15)/(1+'Table G'!$B$18)*IF(ABS(((1+$A13)/(1+'Table G'!$B$18))-1)<0.000000001,5,(1-((1+$A13)/(1+'Table G'!$B$18))^5)/(1-((1+$A13)/(1+'Table G'!$B$18))))+('Table G'!$B$14+'Table G'!$B$15)*(1+$A13)^(5-1)*(1+'Table G'!$B$26)/(('Table G'!$B$18-'Table G'!$B$26)*(1+'Table G'!$B$18)^5),"") -> 52926.048 | E13: =IFERROR(('Table G'!$B$14+'Table G'!$B$15)/(1+'Table G'!$B$18)*IF(ABS(((1+$A13)/(1+'Table G'!$B$18))-1)<0.000000001,10,(1-((1+$A13)/(1+'Table G'!$B$18))^10)/(1-((1+$A13)/(1+'Table G'!$B$18))))+('Table G'!$B$14+'Table G'!$B$15)*(1+$A13)^(10-1)*(1+'Table G'!$B$26)/(('Table G'!$B$18-'Table G'!$B$26)*(1+'Table G'!$B$18)^10),"") -> 38642.046 | F13: =IFERROR(('Table G'!$B$14+'Table G'!$B$15)/(1+'Table G'!$B$18)*IF(ABS(((1+$A13)/(1+'Table G'!$B$18))-1)<0.000000001,5,(1-((1+$A13)/(1+'Table G'!$B$18))^5)/(1-((1+$A13)/(1+'Table G'!$B$18))))+('Table G'!$B$14+'Table G'!$B$15)*(1+$A13)^(5-1)*(1+'Table G'!$B$27)/(('Table G'!$B$18-'Table G'!$B$27)*(1+'Table G'!$B$18)^5),"") -> 56306.479 | G13: =IFERROR(('Table G'!$B$14+'Table G'!$B$15)/(1+'Table G'!$B$18)*IF(ABS(((1+$A13)/(1+'Table G'!$B$18))-1)<0.000000001,10,(1-((1+$A13)/(1+'Table G'!$B$18))^10)/(1-((1+$A13)/(1+'Table G'!$B$18))))+('Table G'!$B$14+'Table G'!$B$15)*(1+$A13)^(10-1)*(1+'Table G'!$B$27)/(('Table G'!$B$18-'Table G'!$B$27)*(1+'Table G'!$B$18)^10),"") -> 40066.929
A14: =-0.1+10*$B$2 -> -0.09 | B14: =IFERROR(('Table G'!$B$14+'Table G'!$B$15)/(1+'Table G'!$B$18)*IF(ABS(((1+$A14)/(1+'Table G'!$B$18))-1)<0.000000001,5,(1-((1+$A14)/(1+'Table G'!$B$18))^5)/(1-((1+$A14)/(1+'Table G'!$B$18))))+('Table G'!$B$14+'Table G'!$B$15)*(1+$A14)^(5-1)*(1+'Table G'!$B$25)/(('Table G'!$B$18-'Table G'!$B$25)*(1+'Table G'!$B$18)^5),"") -> 50225.27 | C14: =IFERROR(('Table G'!$B$14+'Table G'!$B$15)/(1+'Table G'!$B$18)*IF(ABS(((1+$A14)/(1+'Table G'!$B$18))-1)<0.000000001,10,(1-((1+$A14)/(1+'Table G'!$B$18))^10)/(1-((1+$A14)/(1+'Table G'!$B$18))))+('Table G'!$B$14+'Table G'!$B$15)*(1+$A14)^(10-1)*(1+'Table G'!$B$25)/(('Table G'!$B$18-'Table G'!$B$25)*(1+'Table G'!$B$18)^10),"") -> 37650.185 | D14: =IFERROR(('Table G'!$B$14+'Table G'!$B$15)/(1+'Table G'!$B$18)*IF(ABS(((1+$A14)/(1+'Table G'!$B$18))-1)<0.000000001,5,(1-((1+$A14)/(1+'Table G'!$B$18))^5)/(1-((1+$A14)/(1+'Table G'!$B$18))))+('Table G'!$B$14+'Table G'!$B$15)*(1+$A14)^(5-1)*(1+'Table G'!$B$26)/(('Table G'!$B$18-'Table G'!$B$26)*(1+'Table G'!$B$18)^5),"") -> 53117.175 | E14: =IFERROR(('Table G'!$B$14+'Table G'!$B$15)/(1+'Table G'!$B$18)*IF(ABS(((1+$A14)/(1+'Table G'!$B$18))-1)<0.000000001,10,(1-((1+$A14)/(1+'Table G'!$B$18))^10)/(1-((1+$A14)/(1+'Table G'!$B$18))))+('Table G'!$B$14+'Table G'!$B$15)*(1+$A14)^(10-1)*(1+'Table G'!$B$26)/(('Table G'!$B$18-'Table G'!$B$26)*(1+'Table G'!$B$18)^10),"") -> 38875.869 | F14: =IFERROR(('Table G'!$B$14+'Table G'!$B$15)/(1+'Table G'!$B$18)*IF(ABS(((1+$A14)/(1+'Table G'!$B$18))-1)<0.000000001,5,(1-((1+$A14)/(1+'Table G'!$B$18))^5)/(1-((1+$A14)/(1+'Table G'!$B$18))))+('Table G'!$B$14+'Table G'!$B$15)*(1+$A14)^(5-1)*(1+'Table G'!$B$27)/(('Table G'!$B$18-'Table G'!$B$27)*(1+'Table G'!$B$18)^5),"") -> 56512.505 | G14: =IFERROR(('Table G'!$B$14+'Table G'!$B$15)/(1+'Table G'!$B$18)*IF(ABS(((1+$A14)/(1+'Table G'!$B$18))-1)<0.000000001,10,(1-((1+$A14)/(1+'Table G'!$B$18))^10)/(1-((1+$A14)/(1+'Table G'!$B$18))))+('Table G'!$B$14+'Table G'!$B$15)*(1+$A14)^(10-1)*(1+'Table G'!$B$27)/(('Table G'!$B$18-'Table G'!$B$27)*(1+'Table G'!$B$18)^10),"") -> 40314.922
A15: =-0.1+11*$B$2 -> -0.089 | B15: =IFERROR(('Table G'!$B$14+'Table G'!$B$15)/(1+'Table G'!$B$18)*IF(ABS(((1+$A15)/(1+'Table G'!$B$18))-1)<0.000000001,5,(1-((1+$A15)/(1+'Table G'!$B$18))^5)/(1-((1+$A15)/(1+'Table G'!$B$18))))+('Table G'!$B$14+'Table G'!$B$15)*(1+$A15)^(5-1)*(1+'Table G'!$B$25)/(('Table G'!$B$18-'Table G'!$B$25)*(1+'Table G'!$B$18)^5),"") -> 50404.257 | C15: =IFERROR(('Table G'!$B$14+'Table G'!$B$15)/(1+'Table G'!$B$18)*IF(ABS(((1+$A15)/(1+'Table G'!$B$18))-1)<0.000000001,10,(1-((1+$A15)/(1+'Table G'!$B$18))^10)/(1-((1+$A15)/(1+'Table G'!$B$18))))+('Table G'!$B$14+'Table G'!$B$15)*(1+$A15)^(10-1)*(1+'Table G'!$B$25)/(('Table G'!$B$18-'Table G'!$B$25)*(1+'Table G'!$B$18)^10),"") -> 37873.578 | D15: =IFERROR(('Table G'!$B$14+'Table G'!$B$15)/(1+'Table G'!$B$18)*IF(ABS(((1+$A15)/(1+'Table G'!$B$18))-1)<0.000000001,5,(1-((1+$A15)/(1+'Table G'!$B$18))^5)/(1-((1+$A15)/(1+'Table G'!$B$18))))+('Table G'!$B$14+'Table G'!$B$15)*(1+$A15)^(5-1)*(1+'Table G'!$B$26)/(('Table G'!$B$18-'Table G'!$B$26)*(1+'Table G'!$B$18)^5),"") -> 53308.894 | E15: =IFERROR(('Table G'!$B$14+'Table G'!$B$15)/(1+'Table G'!$B$18)*IF(ABS(((1+$A15)/(1+'Table G'!$B$18))-1)<0.000000001,10,(1-((1+$A15)/(1+'Table G'!$B$18))^10)/(1-((1+$A15)/(1+'Table G'!$B$18))))+('Table G'!$B$14+'Table G'!$B$15)*(1+$A15)^(10-1)*(1+'Table G'!$B$26)/(('Table G'!$B$18-'Table G'!$B$26)*(1+'Table G'!$B$18)^10),"") -> 39111.438 | F15: =IFERROR(('Table G'!$B$14+'Table G'!$B$15)/(1+'Table G'!$B$18)*IF(ABS(((1+$A15)/(1+'Table G'!$B$18))-1)<0.000000001,5,(1-((1+$A15)/(1+'Table G'!$B$18))^5)/(1-((1+$A15)/(1+'Table G'!$B$18))))+('Table G'!$B$14+'Table G'!$B$15)*(1+$A15)^(5-1)*(1+'Table G'!$B$27)/(('Table G'!$B$18-'Table G'!$B$27)*(1+'Table G'!$B$18)^5),"") -> 56719.174 | G15: =IFERROR(('Table G'!$B$14+'Table G'!$B$15)/(1+'Table G'!$B$18)*IF(ABS(((1+$A15)/(1+'Table G'!$B$18))-1)<0.000000001,10,(1-((1+$A15)/(1+'Table G'!$B$18))^10)/(1-((1+$A15)/(1+'Table G'!$B$18))))+('Table G'!$B$14+'Table G'!$B$15)*(1+$A15)^(10-1)*(1+'Table G'!$B$27)/(('Table G'!$B$18-'Table G'!$B$27)*(1+'Table G'!$B$18)^10),"") -> 40564.786
A16: =-0.1+12*$B$2 -> -0.088 | B16: =IFERROR(('Table G'!$B$14+'Table G'!$B$15)/(1+'Table G'!$B$18)*IF(ABS(((1+$A16)/(1+'Table G'!$B$18))-1)<0.000000001,5,(1-((1+$A16)/(1+'Table G'!$B$18))^5)/(1-((1+$A16)/(1+'Table G'!$B$18))))+('Table G'!$B$14+'Table G'!$B$15)*(1+$A16)^(5-1)*(1+'Table G'!$B$25)/(('Table G'!$B$18-'Table G'!$B$25)*(1+'Table G'!$B$18)^5),"") -> 50583.795 | C16: =IFERROR(('Table G'!$B$14+'Table G'!$B$15)/(1+'Table G'!$B$18)*IF(ABS(((1+$A16)/(1+'Table G'!$B$18))-1)<0.000000001,10,(1-((1+$A16)/(1+'Table G'!$B$18))^10)/(1-((1+$A16)/(1+'Table G'!$B$18))))+('Table G'!$B$14+'Table G'!$B$15)*(1+$A16)^(10-1)*(1+'Table G'!$B$25)/(('Table G'!$B$18-'Table G'!$B$25)*(1+'Table G'!$B$18)^10),"") -> 38098.623 | D16: =IFERROR(('Table G'!$B$14+'Table G'!$B$15)/(1+'Table G'!$B$18)*IF(ABS(((1+$A16)/(1+'Table G'!$B$18))-1)<0.000000001,5,(1-((1+$A16)/(1+'Table G'!$B$18))^5)/(1-((1+$A16)/(1+'Table G'!$B$18))))+('Table G'!$B$14+'Table G'!$B$15)*(1+$A16)^(5-1)*(1+'Table G'!$B$26)/(('Table G'!$B$18-'Table G'!$B$26)*(1+'Table G'!$B$18)^5),"") -> 53501.207 | E16: =IFERROR(('Table G'!$B$14+'Table G'!$B$15)/(1+'Table G'!$B$18)*IF(ABS(((1+$A16)/(1+'Table G'!$B$18))-1)<0.000000001,10,(1-((1+$A16)/(1+'Table G'!$B$18))^10)/(1-((1+$A16)/(1+'Table G'!$B$18))))+('Table G'!$B$14+'Table G'!$B$15)*(1+$A16)^(10-1)*(1+'Table G'!$B$26)/(('Table G'!$B$18-'Table G'!$B$26)*(1+'Table G'!$B$18)^10),"") -> 39348.766 | F16: =IFERROR(('Table G'!$B$14+'Table G'!$B$15)/(1+'Table G'!$B$18)*IF(ABS(((1+$A16)/(1+'Table G'!$B$18))-1)<0.000000001,5,(1-((1+$A16)/(1+'Table G'!$B$18))^5)/(1-((1+$A16)/(1+'Table G'!$B$18))))+('Table G'!$B$14+'Table G'!$B$15)*(1+$A16)^(5-1)*(1+'Table G'!$B$27)/(('Table G'!$B$18-'Table G'!$B$27)*(1+'Table G'!$B$18)^5),"") -> 56926.485 | G16: =IFERROR(('Table G'!$B$14+'Table G'!$B$15)/(1+'Table G'!$B$18)*IF(ABS(((1+$A16)/(1+'Table G'!$B$18))-1)<0.000000001,10,(1-((1+$A16)/(1+'Table G'!$B$18))^10)/(1-((1+$A16)/(1+'Table G'!$B$18))))+('Table G'!$B$14+'Table G'!$B$15)*(1+$A16)^(10-1)*(1+'Table G'!$B$27)/(('Table G'!$B$18-'Table G'!$B$27)*(1+'Table G'!$B$18)^10),"") -> 40816.535
A17: =-0.1+13*$B$2 -> -0.087 | B17: =IFERROR(('Table G'!$B$14+'Table G'!$B$15)/(1+'Table G'!$B$18)*IF(ABS(((1+$A17)/(1+'Table G'!$B$18))-1)<0.000000001,5,(1-((1+$A17)/(1+'Table G'!$B$18))^5)/(1-((1+$A17)/(1+'Table G'!$B$18))))+('Table G'!$B$14+'Table G'!$B$15)*(1+$A17)^(5-1)*(1+'Table G'!$B$25)/(('Table G'!$B$18-'Table G'!$B$25)*(1+'Table G'!$B$18)^5),"") -> 50763.885 | C17: =IFERROR(('Table G'!$B$14+'Table G'!$B$15)/(1+'Table G'!$B$18)*IF(ABS(((1+$A17)/(1+'Table G'!$B$18))-1)<0.000000001,10,(1-((1+$A17)/(1+'Table G'!$B$18))^10)/(1-((1+$A17)/(1+'Table G'!$B$18))))+('Table G'!$B$14+'Table G'!$B$15)*(1+$A17)^(10-1)*(1+'Table G'!$B$25)/(('Table G'!$B$18-'Table G'!$B$25)*(1+'Table G'!$B$18)^10),"") -> 38325.331 | D17: =IFERROR(('Table G'!$B$14+'Table G'!$B$15)/(1+'Table G'!$B$18)*IF(ABS(((1+$A17)/(1+'Table G'!$B$18))-1)<0.000000001,5,(1-((1+$A17)/(1+'Table G'!$B$18))^5)/(1-((1+$A17)/(1+'Table G'!$B$18))))+('Table G'!$B$14+'Table G'!$B$15)*(1+$A17)^(5-1)*(1+'Table G'!$B$26)/(('Table G'!$B$18-'Table G'!$B$26)*(1+'Table G'!$B$18)^5),"") -> 53694.114 | E17: =IFERROR(('Table G'!$B$14+'Table G'!$B$15)/(1+'Table G'!$B$18)*IF(ABS(((1+$A17)/(1+'Table G'!$B$18))-1)<0.000000001,10,(1-((1+$A17)/(1+'Table G'!$B$18))^10)/(1-((1+$A17)/(1+'Table G'!$B$18))))+('Table G'!$B$14+'Table G'!$B$15)*(1+$A17)^(10-1)*(1+'Table G'!$B$26)/(('Table G'!$B$18-'Table G'!$B$26)*(1+'Table G'!$B$18)^10),"") -> 39587.864 | F17: =IFERROR(('Table G'!$B$14+'Table G'!$B$15)/(1+'Table G'!$B$18)*IF(ABS(((1+$A17)/(1+'Table G'!$B$18))-1)<0.000000001,5,(1-((1+$A17)/(1+'Table G'!$B$18))^5)/(1-((1+$A17)/(1+'Table G'!$B$18))))+('Table G'!$B$14+'Table G'!$B$15)*(1+$A17)^(5-1)*(1+'Table G'!$B$27)/(('Table G'!$B$18-'Table G'!$B$27)*(1+'Table G'!$B$18)^5),"") -> 57134.44 | G17: =IFERROR(('Table G'!$B$14+'Table G'!$B$15)/(1+'Table G'!$B$18)*IF(ABS(((1+$A17)/(1+'Table G'!$B$18))-1)<0.000000001,10,(1-((1+$A17)/(1+'Table G'!$B$18))^10)/(1-((1+$A17)/(1+'Table G'!$B$18))))+('Table G'!$B$14+'Table G'!$B$15)*(1+$A17)^(10-1)*(1+'Table G'!$B$27)/(('Table G'!$B$18-'Table G'!$B$27)*(1+'Table G'!$B$18)^10),"") -> 41070.182
A18: =-0.1+14*$B$2 -> -0.086 | B18: =IFERROR(('Table G'!$B$14+'Table G'!$B$15)/(1+'Table G'!$B$18)*IF(ABS(((1+$A18)/(1+'Table G'!$B$18))-1)<0.000000001,5,(1-((1+$A18)/(1+'Table G'!$B$18))^5)/(1-((1+$A18)/(1+'Table G'!$B$18))))+('Table G'!$B$14+'Table G'!$B$15)*(1+$A18)^(5-1)*(1+'Table G'!$B$25)/(('Table G'!$B$18-'Table G'!$B$25)*(1+'Table G'!$B$18)^5),"") -> 50944.53 | C18: =IFERROR(('Table G'!$B$14+'Table G'!$B$15)/(1+'Table G'!$B$18)*IF(ABS(((1+$A18)/(1+'Table G'!$B$18))-1)<0.000000001,10,(1-((1+$A18)/(1+'Table G'!$B$18))^10)/(1-((1+$A18)/(1+'Table G'!$B$18))))+('Table G'!$B$14+'Table G'!$B$15)*(1+$A18)^(10-1)*(1+'Table G'!$B$25)/(('Table G'!$B$18-'Table G'!$B$25)*(1+'Table G'!$B$18)^10),"") -> 38553.713 | D18: =IFERROR(('Table G'!$B$14+'Table G'!$B$15)/(1+'Table G'!$B$18)*IF(ABS(((1+$A18)/(1+'Table G'!$B$18))-1)<0.000000001,5,(1-((1+$A18)/(1+'Table G'!$B$18))^5)/(1-((1+$A18)/(1+'Table G'!$B$18))))+('Table G'!$B$14+'Table G'!$B$15)*(1+$A18)^(5-1)*(1+'Table G'!$B$26)/(('Table G'!$B$18-'Table G'!$B$26)*(1+'Table G'!$B$18)^5),"") -> 53887.618 | E18: =IFERROR(('Table G'!$B$14+'Table G'!$B$15)/(1+'Table G'!$B$18)*IF(ABS(((1+$A18)/(1+'Table G'!$B$18))-1)<0.000000001,10,(1-((1+$A18)/(1+'Table G'!$B$18))^10)/(1-((1+$A18)/(1+'Table G'!$B$18))))+('Table G'!$B$14+'Table G'!$B$15)*(1+$A18)^(10-1)*(1+'Table G'!$B$26)/(('Table G'!$B$18-'Table G'!$B$26)*(1+'Table G'!$B$18)^10),"") -> 39828.747 | F18: =IFERROR(('Table G'!$B$14+'Table G'!$B$15)/(1+'Table G'!$B$18)*IF(ABS(((1+$A18)/(1+'Table G'!$B$18))-1)<0.000000001,5,(1-((1+$A18)/(1+'Table G'!$B$18))^5)/(1-((1+$A18)/(1+'Table G'!$B$18))))+('Table G'!$B$14+'Table G'!$B$15)*(1+$A18)^(5-1)*(1+'Table G'!$B$27)/(('Table G'!$B$18-'Table G'!$B$27)*(1+'Table G'!$B$18)^5),"") -> 57343.041 | G18: =IFERROR(('Table G'!$B$14+'Table G'!$B$15)/(1+'Table G'!$B$18)*IF(ABS(((1+$A18)/(1+'Table G'!$B$18))-1)<0.000000001,10,(1-((1+$A18)/(1+'Table G'!$B$18))^10)/(1-((1+$A18)/(1+'Table G'!$B$18))))+('Table G'!$B$14+'Table G'!$B$15)*(1+$A18)^(10-1)*(1+'Table G'!$B$27)/(('Table G'!$B$18-'Table G'!$B$27)*(1+'Table G'!$B$18)^10),"") -> 41325.74
A19: =-0.1+15*$B$2 -> -0.085 | B19: =IFERROR(('Table G'!$B$14+'Table G'!$B$15)/(1+'Table G'!$B$18)*IF(ABS(((1+$A19)/(1+'Table G'!$B$18))-1)<0.000000001,5,(1-((1+$A19)/(1+'Table G'!$B$18))^5)/(1-((1+$A19)/(1+'Table G'!$B$18))))+('Table G'!$B$14+'Table G'!$B$15)*(1+$A19)^(5-1)*(1+'Table G'!$B$25)/(('Table G'!$B$18-'Table G'!$B$25)*(1+'Table G'!$B$18)^5),"") -> 51125.73 | C19: =IFERROR(('Table G'!$B$14+'Table G'!$B$15)/(1+'Table G'!$B$18)*IF(ABS(((1+$A19)/(1+'Table G'!$B$18))-1)<0.000000001,10,(1-((1+$A19)/(1+'Table G'!$B$18))^10)/(1-((1+$A19)/(1+'Table G'!$B$18))))+('Table G'!$B$14+'Table G'!$B$15)*(1+$A19)^(10-1)*(1+'Table G'!$B$25)/(('Table G'!$B$18-'Table G'!$B$25)*(1+'Table G'!$B$18)^10),"") -> 38783.782 | D19: =IFERROR(('Table G'!$B$14+'Table G'!$B$15)/(1+'Table G'!$B$18)*IF(ABS(((1+$A19)/(1+'Table G'!$B$18))-1)<0.000000001,5,(1-((1+$A19)/(1+'Table G'!$B$18))^5)/(1-((1+$A19)/(1+'Table G'!$B$18))))+('Table G'!$B$14+'Table G'!$B$15)*(1+$A19)^(5-1)*(1+'Table G'!$B$26)/(('Table G'!$B$18-'Table G'!$B$26)*(1+'Table G'!$B$18)^5),"") -> 54081.719 | E19: =IFERROR(('Table G'!$B$14+'Table G'!$B$15)/(1+'Table G'!$B$18)*IF(ABS(((1+$A19)/(1+'Table G'!$B$18))-1)<0.000000001,10,(1-((1+$A19)/(1+'Table G'!$B$18))^10)/(1-((1+$A19)/(1+'Table G'!$B$18))))+('Table G'!$B$14+'Table G'!$B$15)*(1+$A19)^(10-1)*(1+'Table G'!$B$26)/(('Table G'!$B$18-'Table G'!$B$26)*(1+'Table G'!$B$18)^10),"") -> 40071.426 | F19: =IFERROR(('Table G'!$B$14+'Table G'!$B$15)/(1+'Table G'!$B$18)*IF(ABS(((1+$A19)/(1+'Table G'!$B$18))-1)<0.000000001,5,(1-((1+$A19)/(1+'Table G'!$B$18))^5)/(1-((1+$A19)/(1+'Table G'!$B$18))))+('Table G'!$B$14+'Table G'!$B$15)*(1+$A19)^(5-1)*(1+'Table G'!$B$27)/(('Table G'!$B$18-'Table G'!$B$27)*(1+'Table G'!$B$18)^5),"") -> 57552.289 | G19: =IFERROR(('Table G'!$B$14+'Table G'!$B$15)/(1+'Table G'!$B$18)*IF(ABS(((1+$A19)/(1+'Table G'!$B$18))-1)<0.000000001,10,(1-((1+$A19)/(1+'Table G'!$B$18))^10)/(1-((1+$A19)/(1+'Table G'!$B$18))))+('Table G'!$B$14+'Table G'!$B$15)*(1+$A19)^(10-1)*(1+'Table G'!$B$27)/(('Table G'!$B$18-'Table G'!$B$27)*(1+'Table G'!$B$18)^10),"") -> 41583.225
A20: =-0.1+16*$B$2 -> -0.084 | B20: =IFERROR(('Table G'!$B$14+'Table G'!$B$15)/(1+'Table G'!$B$18)*IF(ABS(((1+$A20)/(1+'Table G'!$B$18))-1)<0.000000001,5,(1-((1+$A20)/(1+'Table G'!$B$18))^5)/(1-((1+$A20)/(1+'Table G'!$B$18))))+('Table G'!$B$14+'Table G'!$B$15)*(1+$A20)^(5-1)*(1+'Table G'!$B$25)/(('Table G'!$B$18-'Table G'!$B$25)*(1+'Table G'!$B$18)^5),"") -> 51307.486 | C20: =IFERROR(('Table G'!$B$14+'Table G'!$B$15)/(1+'Table G'!$B$18)*IF(ABS(((1+$A20)/(1+'Table G'!$B$18))-1)<0.000000001,10,(1-((1+$A20)/(1+'Table G'!$B$18))^10)/(1-((1+$A20)/(1+'Table G'!$B$18))))+('Table G'!$B$14+'Table G'!$B$15)*(1+$A20)^(10-1)*(1+'Table G'!$B$25)/(('Table G'!$B$18-'Table G'!$B$25)*(1+'Table G'!$B$18)^10),"") -> 39015.549 | D20: =IFERROR(('Table G'!$B$14+'Table G'!$B$15)/(1+'Table G'!$B$18)*IF(ABS(((1+$A20)/(1+'Table G'!$B$18))-1)<0.000000001,5,(1-((1+$A20)/(1+'Table G'!$B$18))^5)/(1-((1+$A20)/(1+'Table G'!$B$18))))+('Table G'!$B$14+'Table G'!$B$15)*(1+$A20)^(5-1)*(1+'Table G'!$B$26)/(('Table G'!$B$18-'Table G'!$B$26)*(1+'Table G'!$B$18)^5),"") -> 54276.418 | E20: =IFERROR(('Table G'!$B$14+'Table G'!$B$15)/(1+'Table G'!$B$18)*IF(ABS(((1+$A20)/(1+'Table G'!$B$18))-1)<0.000000001,10,(1-((1+$A20)/(1+'Table G'!$B$18))^10)/(1-((1+$A20)/(1+'Table G'!$B$18))))+('Table G'!$B$14+'Table G'!$B$15)*(1+$A20)^(10-1)*(1+'Table G'!$B$26)/(('Table G'!$B$18-'Table G'!$B$26)*(1+'Table G'!$B$18)^10),"") -> 40315.914 | F20: =IFERROR(('Table G'!$B$14+'Table G'!$B$15)/(1+'Table G'!$B$18)*IF(ABS(((1+$A20)/(1+'Table G'!$B$18))-1)<0.000000001,5,(1-((1+$A20)/(1+'Table G'!$B$18))^5)/(1-((1+$A20)/(1+'Table G'!$B$18))))+('Table G'!$B$14+'Table G'!$B$15)*(1+$A20)^(5-1)*(1+'Table G'!$B$27)/(('Table G'!$B$18-'Table G'!$B$27)*(1+'Table G'!$B$18)^5),"") -> 57762.185 | G20: =IFERROR(('Table G'!$B$14+'Table G'!$B$15)/(1+'Table G'!$B$18)*IF(ABS(((1+$A20)/(1+'Table G'!$B$18))-1)<0.000000001,10,(1-((1+$A20)/(1+'Table G'!$B$18))^10)/(1-((1+$A20)/(1+'Table G'!$B$18))))+('Table G'!$B$14+'Table G'!$B$15)*(1+$A20)^(10-1)*(1+'Table G'!$B$27)/(('Table G'!$B$18-'Table G'!$B$27)*(1+'Table G'!$B$18)^10),"") -> 41842.648
A21: =-0.1+17*$B$2 -> -0.083 | B21: =IFERROR(('Table G'!$B$14+'Table G'!$B$15)/(1+'Table G'!$B$18)*IF(ABS(((1+$A21)/(1+'Table G'!$B$18))-1)<0.000000001,5,(1-((1+$A21)/(1+'Table G'!$B$18))^5)/(1-((1+$A21)/(1+'Table G'!$B$18))))+('Table G'!$B$14+'Table G'!$B$15)*(1+$A21)^(5-1)*(1+'Table G'!$B$25)/(('Table G'!$B$18-'Table G'!$B$25)*(1+'Table G'!$B$18)^5),"") -> 51489.8 | C21: =IFERROR(('Table G'!$B$14+'Table G'!$B$15)/(1+'Table G'!$B$18)*IF(ABS(((1+$A21)/(1+'Table G'!$B$18))-1)<0.000000001,10,(1-((1+$A21)/(1+'Table G'!$B$18))^10)/(1-((1+$A21)/(1+'Table G'!$B$18))))+('Table G'!$B$14+'Table G'!$B$15)*(1+$A21)^(10-1)*(1+'Table G'!$B$25)/(('Table G'!$B$18-'Table G'!$B$25)*(1+'Table G'!$B$18)^10),"") -> 39249.027 | D21: =IFERROR(('Table G'!$B$14+'Table G'!$B$15)/(1+'Table G'!$B$18)*IF(ABS(((1+$A21)/(1+'Table G'!$B$18))-1)<0.000000001,5,(1-((1+$A21)/(1+'Table G'!$B$18))^5)/(1-((1+$A21)/(1+'Table G'!$B$18))))+('Table G'!$B$14+'Table G'!$B$15)*(1+$A21)^(5-1)*(1+'Table G'!$B$26)/(('Table G'!$B$18-'Table G'!$B$26)*(1+'Table G'!$B$18)^5),"") -> 54471.718 | E21: =IFERROR(('Table G'!$B$14+'Table G'!$B$15)/(1+'Table G'!$B$18)*IF(ABS(((1+$A21)/(1+'Table G'!$B$18))-1)<0.000000001,10,(1-((1+$A21)/(1+'Table G'!$B$18))^10)/(1-((1+$A21)/(1+'Table G'!$B$18))))+('Table G'!$B$14+'Table G'!$B$15)*(1+$A21)^(10-1)*(1+'Table G'!$B$26)/(('Table G'!$B$18-'Table G'!$B$26)*(1+'Table G'!$B$18)^10),"") -> 40562.225 | F21: =IFERROR(('Table G'!$B$14+'Table G'!$B$15)/(1+'Table G'!$B$18)*IF(ABS(((1+$A21)/(1+'Table G'!$B$18))-1)<0.000000001,5,(1-((1+$A21)/(1+'Table G'!$B$18))^5)/(1-((1+$A21)/(1+'Table G'!$B$18))))+('Table G'!$B$14+'Table G'!$B$15)*(1+$A21)^(5-1)*(1+'Table G'!$B$27)/(('Table G'!$B$18-'Table G'!$B$27)*(1+'Table G'!$B$18)^5),"") -> 57972.732 | G21: =IFERROR(('Table G'!$B$14+'Table G'!$B$15)/(1+'Table G'!$B$18)*IF(ABS(((1+$A21)/(1+'Table G'!$B$18))-1)<0.000000001,10,(1-((1+$A21)/(1+'Table G'!$B$18))^10)/(1-((1+$A21)/(1+'Table G'!$B$18))))+('Table G'!$B$14+'Table G'!$B$15)*(1+$A21)^(10-1)*(1+'Table G'!$B$27)/(('Table G'!$B$18-'Table G'!$B$27)*(1+'Table G'!$B$18)^10),"") -> 42104.025
A22: =-0.1+18*$B$2 -> -0.082 | B22: =IFERROR(('Table G'!$B$14+'Table G'!$B$15)/(1+'Table G'!$B$18)*IF(ABS(((1+$A22)/(1+'Table G'!$B$18))-1)<0.000000001,5,(1-((1+$A22)/(1+'Table G'!$B$18))^5)/(1-((1+$A22)/(1+'Table G'!$B$18))))+('Table G'!$B$14+'Table G'!$B$15)*(1+$A22)^(5-1)*(1+'Table G'!$B$25)/(('Table G'!$B$18-'Table G'!$B$25)*(1+'Table G'!$B$18)^5),"") -> 51672.672 | C22: =IFERROR(('Table G'!$B$14+'Table G'!$B$15)/(1+'Table G'!$B$18)*IF(ABS(((1+$A22)/(1+'Table G'!$B$18))-1)<0.000000001,10,(1-((1+$A22)/(1+'Table G'!$B$18))^10)/(1-((1+$A22)/(1+'Table G'!$B$18))))+('Table G'!$B$14+'Table G'!$B$15)*(1+$A22)^(10-1)*(1+'Table G'!$B$25)/(('Table G'!$B$18-'Table G'!$B$25)*(1+'Table G'!$B$18)^10),"") -> 39484.227 | D22: =IFERROR(('Table G'!$B$14+'Table G'!$B$15)/(1+'Table G'!$B$18)*IF(ABS(((1+$A22)/(1+'Table G'!$B$18))-1)<0.000000001,5,(1-((1+$A22)/(1+'Table G'!$B$18))^5)/(1-((1+$A22)/(1+'Table G'!$B$18))))+('Table G'!$B$14+'Table G'!$B$15)*(1+$A22)^(5-1)*(1+'Table G'!$B$26)/(('Table G'!$B$18-'Table G'!$B$26)*(1+'Table G'!$B$18)^5),"") -> 54667.619 | E22: =IFERROR(('Table G'!$B$14+'Table G'!$B$15)/(1+'Table G'!$B$18)*IF(ABS(((1+$A22)/(1+'Table G'!$B$18))-1)<0.000000001,10,(1-((1+$A22)/(1+'Table G'!$B$18))^10)/(1-((1+$A22)/(1+'Table G'!$B$18))))+('Table G'!$B$14+'Table G'!$B$15)*(1+$A22)^(10-1)*(1+'Table G'!$B$26)/(('Table G'!$B$18-'Table G'!$B$26)*(1+'Table G'!$B$18)^10),"") -> 40810.37 | F22: =IFERROR(('Table G'!$B$14+'Table G'!$B$15)/(1+'Table G'!$B$18)*IF(ABS(((1+$A22)/(1+'Table G'!$B$18))-1)<0.000000001,5,(1-((1+$A22)/(1+'Table G'!$B$18))^5)/(1-((1+$A22)/(1+'Table G'!$B$18))))+('Table G'!$B$14+'Table G'!$B$15)*(1+$A22)^(5-1)*(1+'Table G'!$B$27)/(('Table G'!$B$18-'Table G'!$B$27)*(1+'Table G'!$B$18)^5),"") -> 58183.929 | G22: =IFERROR(('Table G'!$B$14+'Table G'!$B$15)/(1+'Table G'!$B$18)*IF(ABS(((1+$A22)/(1+'Table G'!$B$18))-1)<0.000000001,10,(1-((1+$A22)/(1+'Table G'!$B$18))^10)/(1-((1+$A22)/(1+'Table G'!$B$18))))+('Table G'!$B$14+'Table G'!$B$15)*(1+$A22)^(10-1)*(1+'Table G'!$B$27)/(('Table G'!$B$18-'Table G'!$B$27)*(1+'Table G'!$B$18)^10),"") -> 42367.369
A23: =-0.1+19*$B$2 -> -0.081 | B23: =IFERROR(('Table G'!$B$14+'Table G'!$B$15)/(1+'Table G'!$B$18)*IF(ABS(((1+$A23)/(1+'Table G'!$B$18))-1)<0.000000001,5,(1-((1+$A23)/(1+'Table G'!$B$18))^5)/(1-((1+$A23)/(1+'Table G'!$B$18))))+('Table G'!$B$14+'Table G'!$B$15)*(1+$A23)^(5-1)*(1+'Table G'!$B$25)/(('Table G'!$B$18-'Table G'!$B$25)*(1+'Table G'!$B$18)^5),"") -> 51856.104 | C23: =IFERROR(('Table G'!$B$14+'Table G'!$B$15)/(1+'Table G'!$B$18)*IF(ABS(((1+$A23)/(1+'Table G'!$B$18))-1)<0.000000001,10,(1-((1+$A23)/(1+'Table G'!$B$18))^10)/(1-((1+$A23)/(1+'Table G'!$B$18))))+('Table G'!$B$14+'Table G'!$B$15)*(1+$A23)^(10-1)*(1+'Table G'!$B$25)/(('Table G'!$B$18-'Table G'!$B$25)*(1+'Table G'!$B$18)^10),"") -> 39721.163 | D23: =IFERROR(('Table G'!$B$14+'Table G'!$B$15)/(1+'Table G'!$B$18)*IF(ABS(((1+$A23)/(1+'Table G'!$B$18))-1)<0.000000001,5,(1-((1+$A23)/(1+'Table G'!$B$18))^5)/(1-((1+$A23)/(1+'Table G'!$B$18))))+('Table G'!$B$14+'Table G'!$B$15)*(1+$A23)^(5-1)*(1+'Table G'!$B$26)/(('Table G'!$B$18-'Table G'!$B$26)*(1+'Table G'!$B$18)^5),"") -> 54864.122 | E23: =IFERROR(('Table G'!$B$14+'Table G'!$B$15)/(1+'Table G'!$B$18)*IF(ABS(((1+$A23)/(1+'Table G'!$B$18))-1)<0.000000001,10,(1-((1+$A23)/(1+'Table G'!$B$18))^10)/(1-((1+$A23)/(1+'Table G'!$B$18))))+('Table G'!$B$14+'Table G'!$B$15)*(1+$A23)^(10-1)*(1+'Table G'!$B$26)/(('Table G'!$B$18-'Table G'!$B$26)*(1+'Table G'!$B$18)^10),"") -> 41060.364 | F23: =IFERROR(('Table G'!$B$14+'Table G'!$B$15)/(1+'Table G'!$B$18)*IF(ABS(((1+$A23)/(1+'Table G'!$B$18))-1)<0.000000001,5,(1-((1+$A23)/(1+'Table G'!$B$18))^5)/(1-((1+$A23)/(1+'Table G'!$B$18))))+('Table G'!$B$14+'Table G'!$B$15)*(1+$A23)^(5-1)*(1+'Table G'!$B$27)/(('Table G'!$B$18-'Table G'!$B$27)*(1+'Table G'!$B$18)^5),"") -> 58395.779 | G23: =IFERROR(('Table G'!$B$14+'Table G'!$B$15)/(1+'Table G'!$B$18)*IF(ABS(((1+$A23)/(1+'Table G'!$B$18))-1)<0.000000001,10,(1-((1+$A23)/(1+'Table G'!$B$18))^10)/(1-((1+$A23)/(1+'Table G'!$B$18))))+('Table G'!$B$14+'Table G'!$B$15)*(1+$A23)^(10-1)*(1+'Table G'!$B$27)/(('Table G'!$B$18-'Table G'!$B$27)*(1+'Table G'!$B$18)^10),"") -> 42632.694
A24: =-0.1+20*$B$2 -> -0.08 | B24: =IFERROR(('Table G'!$B$14+'Table G'!$B$15)/(1+'Table G'!$B$18)*IF(ABS(((1+$A24)/(1+'Table G'!$B$18))-1)<0.000000001,5,(1-((1+$A24)/(1+'Table G'!$B$18))^5)/(1-((1+$A24)/(1+'Table G'!$B$18))))+('Table G'!$B$14+'Table G'!$B$15)*(1+$A24)^(5-1)*(1+'Table G'!$B$25)/(('Table G'!$B$18-'Table G'!$B$25)*(1+'Table G'!$B$18)^5),"") -> 52040.097 | C24: =IFERROR(('Table G'!$B$14+'Table G'!$B$15)/(1+'Table G'!$B$18)*IF(ABS(((1+$A24)/(1+'Table G'!$B$18))-1)<0.000000001,10,(1-((1+$A24)/(1+'Table G'!$B$18))^10)/(1-((1+$A24)/(1+'Table G'!$B$18))))+('Table G'!$B$14+'Table G'!$B$15)*(1+$A24)^(10-1)*(1+'Table G'!$B$25)/(('Table G'!$B$18-'Table G'!$B$25)*(1+'Table G'!$B$18)^10),"") -> 39959.845 | D24: =IFERROR(('Table G'!$B$14+'Table G'!$B$15)/(1+'Table G'!$B$18)*IF(ABS(((1+$A24)/(1+'Table G'!$B$18))-1)<0.000000001,5,(1-((1+$A24)/(1+'Table G'!$B$18))^5)/(1-((1+$A24)/(1+'Table G'!$B$18))))+('Table G'!$B$14+'Table G'!$B$15)*(1+$A24)^(5-1)*(1+'Table G'!$B$26)/(('Table G'!$B$18-'Table G'!$B$26)*(1+'Table G'!$B$18)^5),"") -> 55061.229 | E24: =IFERROR(('Table G'!$B$14+'Table G'!$B$15)/(1+'Table G'!$B$18)*IF(ABS(((1+$A24)/(1+'Table G'!$B$18))-1)<0.000000001,10,(1-((1+$A24)/(1+'Table G'!$B$18))^10)/(1-((1+$A24)/(1+'Table G'!$B$18))))+('Table G'!$B$14+'Table G'!$B$15)*(1+$A24)^(10-1)*(1+'Table G'!$B$26)/(('Table G'!$B$18-'Table G'!$B$26)*(1+'Table G'!$B$18)^10),"") -> 41312.218 | F24: =IFERROR(('Table G'!$B$14+'Table G'!$B$15)/(1+'Table G'!$B$18)*IF(ABS(((1+$A24)/(1+'Table G'!$B$18))-1)<0.000000001,5,(1-((1+$A24)/(1+'Table G'!$B$18))^5)/(1-((1+$A24)/(1+'Table G'!$B$18))))+('Table G'!$B$14+'Table G'!$B$15)*(1+$A24)^(5-1)*(1+'Table G'!$B$27)/(('Table G'!$B$18-'Table G'!$B$27)*(1+'Table G'!$B$18)^5),"") -> 58608.283 | G24: =IFERROR(('Table G'!$B$14+'Table G'!$B$15)/(1+'Table G'!$B$18)*IF(ABS(((1+$A24)/(1+'Table G'!$B$18))-1)<0.000000001,10,(1-((1+$A24)/(1+'Table G'!$B$18))^10)/(1-((1+$A24)/(1+'Table G'!$B$18))))+('Table G'!$B$14+'Table G'!$B$15)*(1+$A24)^(10-1)*(1+'Table G'!$B$27)/(('Table G'!$B$18-'Table G'!$B$27)*(1+'Table G'!$B$18)^10),"") -> 42900.014
A25: =-0.1+21*$B$2 -> -0.079 | B25: =IFERROR(('Table G'!$B$14+'Table G'!$B$15)/(1+'Table G'!$B$18)*IF(ABS(((1+$A25)/(1+'Table G'!$B$18))-1)<0.000000001,5,(1-((1+$A25)/(1+'Table G'!$B$18))^5)/(1-((1+$A25)/(1+'Table G'!$B$18))))+('Table G'!$B$14+'Table G'!$B$15)*(1+$A25)^(5-1)*(1+'Table G'!$B$25)/(('Table G'!$B$18-'Table G'!$B$25)*(1+'Table G'!$B$18)^5),"") -> 52224.653 | C25: =IFERROR(('Table G'!$B$14+'Table G'!$B$15)/(1+'Table G'!$B$18)*IF(ABS(((1+$A25)/(1+'Table G'!$B$18))-1)<0.000000001,10,(1-((1+$A25)/(1+'Table G'!$B$18))^10)/(1-((1+$A25)/(1+'Table G'!$B$18))))+('Table G'!$B$14+'Table G'!$B$15)*(1+$A25)^(10-1)*(1+'Table G'!$B$25)/(('Table G'!$B$18-'Table G'!$B$25)*(1+'Table G'!$B$18)^10),"") -> 40200.287 | D25: =IFERROR(('Table G'!$B$14+'Table G'!$B$15)/(1+'Table G'!$B$18)*IF(ABS(((1+$A25)/(1+'Table G'!$B$18))-1)<0.000000001,5,(1-((1+$A25)/(1+'Table G'!$B$18))^5)/(1-((1+$A25)/(1+'Table G'!$B$18))))+('Table G'!$B$14+'Table G'!$B$15)*(1+$A25)^(5-1)*(1+'Table G'!$B$26)/(('Table G'!$B$18-'Table G'!$B$26)*(1+'Table G'!$B$18)^5),"") -> 55258.942 | E25: =IFERROR(('Table G'!$B$14+'Table G'!$B$15)/(1+'Table G'!$B$18)*IF(ABS(((1+$A25)/(1+'Table G'!$B$18))-1)<0.000000001,10,(1-((1+$A25)/(1+'Table G'!$B$18))^10)/(1-((1+$A25)/(1+'Table G'!$B$18))))+('Table G'!$B$14+'Table G'!$B$15)*(1+$A25)^(10-1)*(1+'Table G'!$B$26)/(('Table G'!$B$18-'Table G'!$B$26)*(1+'Table G'!$B$18)^10),"") -> 41565.948 | F25: =IFERROR(('Table G'!$B$14+'Table G'!$B$15)/(1+'Table G'!$B$18)*IF(ABS(((1+$A25)/(1+'Table G'!$B$18))-1)<0.000000001,5,(1-((1+$A25)/(1+'Table G'!$B$18))^5)/(1-((1+$A25)/(1+'Table G'!$B$18))))+('Table G'!$B$14+'Table G'!$B$15)*(1+$A25)^(5-1)*(1+'Table G'!$B$27)/(('Table G'!$B$18-'Table G'!$B$27)*(1+'Table G'!$B$18)^5),"") -> 58821.443 | G25: =IFERROR(('Table G'!$B$14+'Table G'!$B$15)/(1+'Table G'!$B$18)*IF(ABS(((1+$A25)/(1+'Table G'!$B$18))-1)<0.000000001,10,(1-((1+$A25)/(1+'Table G'!$B$18))^10)/(1-((1+$A25)/(1+'Table G'!$B$18))))+('Table G'!$B$14+'Table G'!$B$15)*(1+$A25)^(10-1)*(1+'Table G'!$B$27)/(('Table G'!$B$18-'Table G'!$B$27)*(1+'Table G'!$B$18)^10),"") -> 43169.344
A26: =-0.1+22*$B$2 -> -0.078 | B26: =IFERROR(('Table G'!$B$14+'Table G'!$B$15)/(1+'Table G'!$B$18)*IF(ABS(((1+$A26)/(1+'Table G'!$B$18))-1)<0.000000001,5,(1-((1+$A26)/(1+'Table G'!$B$18))^5)/(1-((1+$A26)/(1+'Table G'!$B$18))))+('Table G'!$B$14+'Table G'!$B$15)*(1+$A26)^(5-1)*(1+'Table G'!$B$25)/(('Table G'!$B$18-'Table G'!$B$25)*(1+'Table G'!$B$18)^5),"") -> 52409.772 | C26: =IFERROR(('Table G'!$B$14+'Table G'!$B$15)/(1+'Table G'!$B$18)*IF(ABS(((1+$A26)/(1+'Table G'!$B$18))-1)<0.000000001,10,(1-((1+$A26)/(1+'Table G'!$B$18))^10)/(1-((1+$A26)/(1+'Table G'!$B$18))))+('Table G'!$B$14+'Table G'!$B$15)*(1+$A26)^(10-1)*(1+'Table G'!$B$25)/(('Table G'!$B$18-'Table G'!$B$25)*(1+'Table G'!$B$18)^10),"") -> 40442.501 | D26: =IFERROR(('Table G'!$B$14+'Table G'!$B$15)/(1+'Table G'!$B$18)*IF(ABS(((1+$A26)/(1+'Table G'!$B$18))-1)<0.000000001,5,(1-((1+$A26)/(1+'Table G'!$B$18))^5)/(1-((1+$A26)/(1+'Table G'!$B$18))))+('Table G'!$B$14+'Table G'!$B$15)*(1+$A26)^(5-1)*(1+'Table G'!$B$26)/(('Table G'!$B$18-'Table G'!$B$26)*(1+'Table G'!$B$18)^5),"") -> 55457.26 | E26: =IFERROR(('Table G'!$B$14+'Table G'!$B$15)/(1+'Table G'!$B$18)*IF(ABS(((1+$A26)/(1+'Table G'!$B$18))-1)<0.000000001,10,(1-((1+$A26)/(1+'Table G'!$B$18))^10)/(1-((1+$A26)/(1+'Table G'!$B$18))))+('Table G'!$B$14+'Table G'!$B$15)*(1+$A26)^(10-1)*(1+'Table G'!$B$26)/(('Table G'!$B$18-'Table G'!$B$26)*(1+'Table G'!$B$18)^10),"") -> 41821.565 | F26: =IFERROR(('Table G'!$B$14+'Table G'!$B$15)/(1+'Table G'!$B$18)*IF(ABS(((1+$A26)/(1+'Table G'!$B$18))-1)<0.000000001,5,(1-((1+$A26)/(1+'Table G'!$B$18))^5)/(1-((1+$A26)/(1+'Table G'!$B$18))))+('Table G'!$B$14+'Table G'!$B$15)*(1+$A26)^(5-1)*(1+'Table G'!$B$27)/(('Table G'!$B$18-'Table G'!$B$27)*(1+'Table G'!$B$18)^5),"") -> 59035.259 | G26: =IFERROR(('Table G'!$B$14+'Table G'!$B$15)/(1+'Table G'!$B$18)*IF(ABS(((1+$A26)/(1+'Table G'!$B$18))-1)<0.000000001,10,(1-((1+$A26)/(1+'Table G'!$B$18))^10)/(1-((1+$A26)/(1+'Table G'!$B$18))))+('Table G'!$B$14+'Table G'!$B$15)*(1+$A26)^(10-1)*(1+'Table G'!$B$27)/(('Table G'!$B$18-'Table G'!$B$27)*(1+'Table G'!$B$18)^10),"") -> 43440.697
A27: =-0.1+23*$B$2 -> -0.077 | B27: =IFERROR(('Table G'!$B$14+'Table G'!$B$15)/(1+'Table G'!$B$18)*IF(ABS(((1+$A27)/(1+'Table G'!$B$18))-1)<0.000000001,5,(1-((1+$A27)/(1+'Table G'!$B$18))^5)/(1-((1+$A27)/(1+'Table G'!$B$18))))+('Table G'!$B$14+'Table G'!$B$15)*(1+$A27)^(5-1)*(1+'Table G'!$B$25)/(('Table G'!$B$18-'Table G'!$B$25)*(1+'Table G'!$B$18)^5),"") -> 52595.455 | C27: =IFERROR(('Table G'!$B$14+'Table G'!$B$15)/(1+'Table G'!$B$18)*IF(ABS(((1+$A27)/(1+'Table G'!$B$18))-1)<0.000000001,10,(1-((1+$A27)/(1+'Table G'!$B$18))^10)/(1-((1+$A27)/(1+'Table G'!$B$18))))+('Table G'!$B$14+'Table G'!$B$15)*(1+$A27)^(10-1)*(1+'Table G'!$B$25)/(('Table G'!$B$18-'Table G'!$B$25)*(1+'Table G'!$B$18)^10),"") -> 40686.499 | D27: =IFERROR(('Table G'!$B$14+'Table G'!$B$15)/(1+'Table G'!$B$18)*IF(ABS(((1+$A27)/(1+'Table G'!$B$18))-1)<0.000000001,5,(1-((1+$A27)/(1+'Table G'!$B$18))^5)/(1-((1+$A27)/(1+'Table G'!$B$18))))+('Table G'!$B$14+'Table G'!$B$15)*(1+$A27)^(5-1)*(1+'Table G'!$B$26)/(('Table G'!$B$18-'Table G'!$B$26)*(1+'Table G'!$B$18)^5),"") -> 55656.186 | E27: =IFERROR(('Table G'!$B$14+'Table G'!$B$15)/(1+'Table G'!$B$18)*IF(ABS(((1+$A27)/(1+'Table G'!$B$18))-1)<0.000000001,10,(1-((1+$A27)/(1+'Table G'!$B$18))^10)/(1-((1+$A27)/(1+'Table G'!$B$18))))+('Table G'!$B$14+'Table G'!$B$15)*(1+$A27)^(10-1)*(1+'Table G'!$B$26)/(('Table G'!$B$18-'Table G'!$B$26)*(1+'Table G'!$B$18)^10),"") -> 42079.083 | F27: =IFERROR(('Table G'!$B$14+'Table G'!$B$15)/(1+'Table G'!$B$18)*IF(ABS(((1+$A27)/(1+'Table G'!$B$18))-1)<0.000000001,5,(1-((1+$A27)/(1+'Table G'!$B$18))^5)/(1-((1+$A27)/(1+'Table G'!$B$18))))+('Table G'!$B$14+'Table G'!$B$15)*(1+$A27)^(5-1)*(1+'Table G'!$B$27)/(('Table G'!$B$18-'Table G'!$B$27)*(1+'Table G'!$B$18)^5),"") -> 59249.733 | G27: =IFERROR(('Table G'!$B$14+'Table G'!$B$15)/(1+'Table G'!$B$18)*IF(ABS(((1+$A27)/(1+'Table G'!$B$18))-1)<0.000000001,10,(1-((1+$A27)/(1+'Table G'!$B$18))^10)/(1-((1+$A27)/(1+'Table G'!$B$18))))+('Table G'!$B$14+'Table G'!$B$15)*(1+$A27)^(10-1)*(1+'Table G'!$B$27)/(('Table G'!$B$18-'Table G'!$B$27)*(1+'Table G'!$B$18)^10),"") -> 43714.089
A28: =-0.1+24*$B$2 -> -0.076 | B28: =IFERROR(('Table G'!$B$14+'Table G'!$B$15)/(1+'Table G'!$B$18)*IF(ABS(((1+$A28)/(1+'Table G'!$B$18))-1)<0.000000001,5,(1-((1+$A28)/(1+'Table G'!$B$18))^5)/(1-((1+$A28)/(1+'Table G'!$B$18))))+('Table G'!$B$14+'Table G'!$B$15)*(1+$A28)^(5-1)*(1+'Table G'!$B$25)/(('Table G'!$B$18-'Table G'!$B$25)*(1+'Table G'!$B$18)^5),"") -> 52781.704 | C28: =IFERROR(('Table G'!$B$14+'Table G'!$B$15)/(1+'Table G'!$B$18)*IF(ABS(((1+$A28)/(1+'Table G'!$B$18))-1)<0.000000001,10,(1-((1+$A28)/(1+'Table G'!$B$18))^10)/(1-((1+$A28)/(1+'Table G'!$B$18))))+('Table G'!$B$14+'Table G'!$B$15)*(1+$A28)^(10-1)*(1+'Table G'!$B$25)/(('Table G'!$B$18-'Table G'!$B$25)*(1+'Table G'!$B$18)^10),"") -> 40932.294 | D28: =IFERROR(('Table G'!$B$14+'Table G'!$B$15)/(1+'Table G'!$B$18)*IF(ABS(((1+$A28)/(1+'Table G'!$B$18))-1)<0.000000001,5,(1-((1+$A28)/(1+'Table G'!$B$18))^5)/(1-((1+$A28)/(1+'Table G'!$B$18))))+('Table G'!$B$14+'Table G'!$B$15)*(1+$A28)^(5-1)*(1+'Table G'!$B$26)/(('Table G'!$B$18-'Table G'!$B$26)*(1+'Table G'!$B$18)^5),"") -> 55855.721 | E28: =IFERROR(('Table G'!$B$14+'Table G'!$B$15)/(1+'Table G'!$B$18)*IF(ABS(((1+$A28)/(1+'Table G'!$B$18))-1)<0.000000001,10,(1-((1+$A28)/(1+'Table G'!$B$18))^10)/(1-((1+$A28)/(1+'Table G'!$B$18))))+('Table G'!$B$14+'Table G'!$B$15)*(1+$A28)^(10-1)*(1+'Table G'!$B$26)/(('Table G'!$B$18-'Table G'!$B$26)*(1+'Table G'!$B$18)^10),"") -> 42338.515 | F28: =IFERROR(('Table G'!$B$14+'Table G'!$B$15)/(1+'Table G'!$B$18)*IF(ABS(((1+$A28)/(1+'Table G'!$B$18))-1)<0.000000001,5,(1-((1+$A28)/(1+'Table G'!$B$18))^5)/(1-((1+$A28)/(1+'Table G'!$B$18))))+('Table G'!$B$14+'Table G'!$B$15)*(1+$A28)^(5-1)*(1+'Table G'!$B$27)/(('Table G'!$B$18-'Table G'!$B$27)*(1+'Table G'!$B$18)^5),"") -> 59464.867 | G28: =IFERROR(('Table G'!$B$14+'Table G'!$B$15)/(1+'Table G'!$B$18)*IF(ABS(((1+$A28)/(1+'Table G'!$B$18))-1)<0.000000001,10,(1-((1+$A28)/(1+'Table G'!$B$18))^10)/(1-((1+$A28)/(1+'Table G'!$B$18))))+('Table G'!$B$14+'Table G'!$B$15)*(1+$A28)^(10-1)*(1+'Table G'!$B$27)/(('Table G'!$B$18-'Table G'!$B$27)*(1+'Table G'!$B$18)^10),"") -> 43989.534
A29: =-0.1+25*$B$2 -> -0.075 | B29: =IFERROR(('Table G'!$B$14+'Table G'!$B$15)/(1+'Table G'!$B$18)*IF(ABS(((1+$A29)/(1+'Table G'!$B$18))-1)<0.000000001,5,(1-((1+$A29)/(1+'Table G'!$B$18))^5)/(1-((1+$A29)/(1+'Table G'!$B$18))))+('Table G'!$B$14+'Table G'!$B$15)*(1+$A29)^(5-1)*(1+'Table G'!$B$25)/(('Table G'!$B$18-'Table G'!$B$25)*(1+'Table G'!$B$18)^5),"") -> 52968.52 | C29: =IFERROR(('Table G'!$B$14+'Table G'!$B$15)/(1+'Table G'!$B$18)*IF(ABS(((1+$A29)/(1+'Table G'!$B$18))-1)<0.000000001,10,(1-((1+$A29)/(1+'Table G'!$B$18))^10)/(1-((1+$A29)/(1+'Table G'!$B$18))))+('Table G'!$B$14+'Table G'!$B$15)*(1+$A29)^(10-1)*(1+'Table G'!$B$25)/(('Table G'!$B$18-'Table G'!$B$25)*(1+'Table G'!$B$18)^10),"") -> 41179.898 | D29: =IFERROR(('Table G'!$B$14+'Table G'!$B$15)/(1+'Table G'!$B$18)*IF(ABS(((1+$A29)/(1+'Table G'!$B$18))-1)<0.000000001,5,(1-((1+$A29)/(1+'Table G'!$B$18))^5)/(1-((1+$A29)/(1+'Table G'!$B$18))))+('Table G'!$B$14+'Table G'!$B$15)*(1+$A29)^(5-1)*(1+'Table G'!$B$26)/(('Table G'!$B$18-'Table G'!$B$26)*(1+'Table G'!$B$18)^5),"") -> 56055.866 | E29: =IFERROR(('Table G'!$B$14+'Table G'!$B$15)/(1+'Table G'!$B$18)*IF(ABS(((1+$A29)/(1+'Table G'!$B$18))-1)<0.000000001,10,(1-((1+$A29)/(1+'Table G'!$B$18))^10)/(1-((1+$A29)/(1+'Table G'!$B$18))))+('Table G'!$B$14+'Table G'!$B$15)*(1+$A29)^(10-1)*(1+'Table G'!$B$26)/(('Table G'!$B$18-'Table G'!$B$26)*(1+'Table G'!$B$18)^10),"") -> 42599.876 | F29: =IFERROR(('Table G'!$B$14+'Table G'!$B$15)/(1+'Table G'!$B$18)*IF(ABS(((1+$A29)/(1+'Table G'!$B$18))-1)<0.000000001,5,(1-((1+$A29)/(1+'Table G'!$B$18))^5)/(1-((1+$A29)/(1+'Table G'!$B$18))))+('Table G'!$B$14+'Table G'!$B$15)*(1+$A29)^(5-1)*(1+'Table G'!$B$27)/(('Table G'!$B$18-'Table G'!$B$27)*(1+'Table G'!$B$18)^5),"") -> 59680.661 | G29: =IFERROR(('Table G'!$B$14+'Table G'!$B$15)/(1+'Table G'!$B$18)*IF(ABS(((1+$A29)/(1+'Table G'!$B$18))-1)<0.000000001,10,(1-((1+$A29)/(1+'Table G'!$B$18))^10)/(1-((1+$A29)/(1+'Table G'!$B$18))))+('Table G'!$B$14+'Table G'!$B$15)*(1+$A29)^(10-1)*(1+'Table G'!$B$27)/(('Table G'!$B$18-'Table G'!$B$27)*(1+'Table G'!$B$18)^10),"") -> 44267.046
A30: =-0.1+26*$B$2 -> -0.074 | B30: =IFERROR(('Table G'!$B$14+'Table G'!$B$15)/(1+'Table G'!$B$18)*IF(ABS(((1+$A30)/(1+'Table G'!$B$18))-1)<0.000000001,5,(1-((1+$A30)/(1+'Table G'!$B$18))^5)/(1-((1+$A30)/(1+'Table G'!$B$18))))+('Table G'!$B$14+'Table G'!$B$15)*(1+$A30)^(5-1)*(1+'Table G'!$B$25)/(('Table G'!$B$18-'Table G'!$B$25)*(1+'Table G'!$B$18)^5),"") -> 53155.905 | C30: =IFERROR(('Table G'!$B$14+'Table G'!$B$15)/(1+'Table G'!$B$18)*IF(ABS(((1+$A30)/(1+'Table G'!$B$18))-1)<0.000000001,10,(1-((1+$A30)/(1+'Table G'!$B$18))^10)/(1-((1+$A30)/(1+'Table G'!$B$18))))+('Table G'!$B$14+'Table G'!$B$15)*(1+$A30)^(10-1)*(1+'Table G'!$B$25)/(('Table G'!$B$18-'Table G'!$B$25)*(1+'Table G'!$B$18)^10),"") -> 41429.325 | D30: =IFERROR(('Table G'!$B$14+'Table G'!$B$15)/(1+'Table G'!$B$18)*IF(ABS(((1+$A30)/(1+'Table G'!$B$18))-1)<0.000000001,5,(1-((1+$A30)/(1+'Table G'!$B$18))^5)/(1-((1+$A30)/(1+'Table G'!$B$18))))+('Table G'!$B$14+'Table G'!$B$15)*(1+$A30)^(5-1)*(1+'Table G'!$B$26)/(('Table G'!$B$18-'Table G'!$B$26)*(1+'Table G'!$B$18)^5),"") -> 56256.623 | E30: =IFERROR(('Table G'!$B$14+'Table G'!$B$15)/(1+'Table G'!$B$18)*IF(ABS(((1+$A30)/(1+'Table G'!$B$18))-1)<0.000000001,10,(1-((1+$A30)/(1+'Table G'!$B$18))^10)/(1-((1+$A30)/(1+'Table G'!$B$18))))+('Table G'!$B$14+'Table G'!$B$15)*(1+$A30)^(10-1)*(1+'Table G'!$B$26)/(('Table G'!$B$18-'Table G'!$B$26)*(1+'Table G'!$B$18)^10),"") -> 42863.179 | F30: =IFERROR(('Table G'!$B$14+'Table G'!$B$15)/(1+'Table G'!$B$18)*IF(ABS(((1+$A30)/(1+'Table G'!$B$18))-1)<0.000000001,5,(1-((1+$A30)/(1+'Table G'!$B$18))^5)/(1-((1+$A30)/(1+'Table G'!$B$18))))+('Table G'!$B$14+'Table G'!$B$15)*(1+$A30)^(5-1)*(1+'Table G'!$B$27)/(('Table G'!$B$18-'Table G'!$B$27)*(1+'Table G'!$B$18)^5),"") -> 59897.118 | G30: =IFERROR(('Table G'!$B$14+'Table G'!$B$15)/(1+'Table G'!$B$18)*IF(ABS(((1+$A30)/(1+'Table G'!$B$18))-1)<0.000000001,10,(1-((1+$A30)/(1+'Table G'!$B$18))^10)/(1-((1+$A30)/(1+'Table G'!$B$18))))+('Table G'!$B$14+'Table G'!$B$15)*(1+$A30)^(10-1)*(1+'Table G'!$B$27)/(('Table G'!$B$18-'Table G'!$B$27)*(1+'Table G'!$B$18)^10),"") -> 44546.64
A31: =-0.1+27*$B$2 -> -0.073 | B31: =IFERROR(('Table G'!$B$14+'Table G'!$B$15)/(1+'Table G'!$B$18)*IF(ABS(((1+$A31)/(1+'Table G'!$B$18))-1)<0.000000001,5,(1-((1+$A31)/(1+'Table G'!$B$18))^5)/(1-((1+$A31)/(1+'Table G'!$B$18))))+('Table G'!$B$14+'Table G'!$B$15)*(1+$A31)^(5-1)*(1+'Table G'!$B$25)/(('Table G'!$B$18-'Table G'!$B$25)*(1+'Table G'!$B$18)^5),"") -> 53343.858 | C31: =IFERROR(('Table G'!$B$14+'Table G'!$B$15)/(1+'Table G'!$B$18)*IF(ABS(((1+$A31)/(1+'Table G'!$B$18))-1)<0.000000001,10,(1-((1+$A31)/(1+'Table G'!$B$18))^10)/(1-((1+$A31)/(1+'Table G'!$B$18))))+('Table G'!$B$14+'Table G'!$B$15)*(1+$A31)^(10-1)*(1+'Table G'!$B$25)/(('Table G'!$B$18-'Table G'!$B$25)*(1+'Table G'!$B$18)^10),"") -> 41680.586 | D31: =IFERROR(('Table G'!$B$14+'Table G'!$B$15)/(1+'Table G'!$B$18)*IF(ABS(((1+$A31)/(1+'Table G'!$B$18))-1)<0.000000001,5,(1-((1+$A31)/(1+'Table G'!$B$18))^5)/(1-((1+$A31)/(1+'Table G'!$B$18))))+('Table G'!$B$14+'Table G'!$B$15)*(1+$A31)^(5-1)*(1+'Table G'!$B$26)/(('Table G'!$B$18-'Table G'!$B$26)*(1+'Table G'!$B$18)^5),"") -> 56457.992 | E31: =IFERROR(('Table G'!$B$14+'Table G'!$B$15)/(1+'Table G'!$B$18)*IF(ABS(((1+$A31)/(1+'Table G'!$B$18))-1)<0.000000001,10,(1-((1+$A31)/(1+'Table G'!$B$18))^10)/(1-((1+$A31)/(1+'Table G'!$B$18))))+('Table G'!$B$14+'Table G'!$B$15)*(1+$A31)^(10-1)*(1+'Table G'!$B$26)/(('Table G'!$B$18-'Table G'!$B$26)*(1+'Table G'!$B$18)^10),"") -> 43128.437 | F31: =IFERROR(('Table G'!$B$14+'Table G'!$B$15)/(1+'Table G'!$B$18)*IF(ABS(((1+$A31)/(1+'Table G'!$B$18))-1)<0.000000001,5,(1-((1+$A31)/(1+'Table G'!$B$18))^5)/(1-((1+$A31)/(1+'Table G'!$B$18))))+('Table G'!$B$14+'Table G'!$B$15)*(1+$A31)^(5-1)*(1+'Table G'!$B$27)/(('Table G'!$B$18-'Table G'!$B$27)*(1+'Table G'!$B$18)^5),"") -> 60114.238 | G31: =IFERROR(('Table G'!$B$14+'Table G'!$B$15)/(1+'Table G'!$B$18)*IF(ABS(((1+$A31)/(1+'Table G'!$B$18))-1)<0.000000001,10,(1-((1+$A31)/(1+'Table G'!$B$18))^10)/(1-((1+$A31)/(1+'Table G'!$B$18))))+('Table G'!$B$14+'Table G'!$B$15)*(1+$A31)^(10-1)*(1+'Table G'!$B$27)/(('Table G'!$B$18-'Table G'!$B$27)*(1+'Table G'!$B$18)^10),"") -> 44828.33
